Felt | Verdi |
AlreadyApplied | True |
Aperture | 8.0 |
ApertureValue | 8.0 |
Artist | Jonas M Eriksson |
AuthorsPosition | Fotograf |
AutoLateralCA | 1 |
AutoWhiteVersion | 134348800 |
BitsPerSample | 8 |
Blacks2012 | -20 |
BlueHue | 0 |
BlueSaturation | 0 |
BrightnessValue | 10.6890625 |
By-line | Jonas M Eriksson |
By-lineTitle | Fotograf |
CameraProfile | Adobe Standard |
CircleOfConfusion | 0.011 mm |
Clarity2012 | +15 |
ColorComponents | 3 |
ColorNoiseReduction | 25 |
ColorNoiseReductionDetail | 50 |
ColorNoiseReductionSmoothness | 50 |
ColorSpace | sRGB |
ColorTemperature | 5750 |
ColorTransform | YCbCr |
Contrast | Normal |
Contrast2012 | +20 |
ConvertToGrayscale | True |
Copyright | jmefoto@gmail.com |
CopyrightFlag | True |
CopyrightNotice | jmefoto@gmail.com |
CreateDate | 2015:05:03 14:41:22 |
Creator | Jonas M Eriksson |
CreatorAddress | Elsetåsen 6 |
CreatorCity | Skien |
CreatorCountry | Norway |
CreatorPostalCode | 3731 |
CreatorTool | Adobe Photoshop Lightroom 6.0 (Macintosh) |
CreatorWorkEmail | jmefoto@gmail.com |
CreatorWorkTelephone | +4741303803 |
CreatorWorkURL | www.jmefoto.com |
CropAngle | 0 |
CropBottom | 1 |
CropConstrainToWarp | 0 |
CropLeft | 0.078323 |
CropRight | 1 |
CropTop | 0.053489 |
CustomRendered | Normal |
DateCreated (1) | 2015:05:03 14:41:22 |
DateCreated | 2015:05:03 |
DateTimeOriginal | 2015:05:03 14:41:22 |
DigitalZoomRatio | 1 |
Exposure2012 | -0.30 |
ExposureCompensation | 0 |
ExposureMode | Auto |
ExposureProgram | Aperture-priority AE |
ExposureTime | 1/640 |
Flash | Off, Did not fire |
FNumber | 8.0 |
FocalLength | 8.8 mm |
FocalLength35efl | 8.8 mm (35 mm equivalent: 24.0 mm) |
FocalLengthIn35mmFormat | 24 mm |
Format | image/jpeg |
FOV | 73.7 deg |
GradientBasedCorrActive | true |
GradientBasedCorrAmount | 1.000000 |
GradientBasedCorrBrightness | 0.000000 |
GradientBasedCorrClarity2012 | 0.000000 |
GradientBasedCorrContrast2012 | 0.000000 |
GradientBasedCorrDefringe | 0.000000 |
GradientBasedCorrExposure2012 | -0.073323 |
GradientBasedCorrHighlights2012 | 0.000000 |
GradientBasedCorrHue | 240.000000 |
GradientBasedCorrLuminanceNoise | 0.000000 |
GradientBasedCorrMaskFullX | 0.506993 |
GradientBasedCorrMaskFullY | 0.053846 |
GradientBasedCorrMaskValue | 1.000000 |
GradientBasedCorrMaskWhat | Mask/Gradient |
GradientBasedCorrMaskZeroX | 0.508891 |
GradientBasedCorrMaskZeroY | 0.692554 |
GradientBasedCorrMoire | 0.000000 |
GradientBasedCorrSaturation | 0.000000 |
GradientBasedCorrShadows2012 | 0.000000 |
GradientBasedCorrSharpness | 0.000000 |
GradientBasedCorrTemperature | 0.000000 |
GradientBasedCorrTint | 0.000000 |
GradientBasedCorrWhat | Correction |
GrainAmount | 0 |
GrayMixerAqua | -19 |
GrayMixerBlue | -50 |
GrayMixerGreen | -27 |
GrayMixerMagenta | +4 |
GrayMixerOrange | -19 |
GrayMixerPurple | +15 |
GrayMixerRed | +36 |
GrayMixerYellow | -80 |
GreenHue | 0 |
GreenSaturation | 0 |
HasCrop | True |
HasExtendedXMP | 9B908A962024E120DCE39BD356380887 |
HasSettings | True |
HierarchicalSubject | London |
Highlights2012 | -100 |
HyperfocalDistance | 0.88 m |
ImageHeight | 1712 |
ImageSize | 2500x1712 |
ImageWidth | 2500 |
ISO | 200 |
Keywords | London |
Lens | 24-70mm F1.8-2.8 |
LensDistortInfo | 35336/32768 -322647567/1073741824 175139330/1073741824 -49573325/1073741824 |
LensInfo | 8.8-25.7mm f/1.8-2.8 |
LensManualDistortionAmount | 0 |
LensModel | 24-70mm F1.8-2.8 |
LensProfileChromaticAberrationScale | 100 |
LensProfileDistortionScale | 100 |
LensProfileEnable | 1 |
LensProfileFilename | Sony DSC-RX1 - RAW.lcp |
LensProfileName | Adobe (Sony DSC-RX1) |
LensProfileSetup | Custom |
LensProfileVignettingScale | 100 |
LightSource | Unknown |
LightValue | 14.3 |
LuminanceNoiseReductionContrast | 0 |
LuminanceNoiseReductionDetail | 50 |
LuminanceSmoothing | 30 |
Make | SONY |
Marked | True |
MaxApertureValue | 1.8 |
Megapixels | 4.3 |
MeteringMode | Multi-segment |
Model | DSC-RX100M3 |
ModifyDate (1) | 2015:10:10 00:47:31+02:00 |
ModifyDate | 2015:10:10 00:47:31 |
Orientation | Horizontal (normal) |
PaintCorrectionActive | true |
PaintCorrectionAmount | 1.000000 |
PaintCorrectionBrightness | 0.000000 |
PaintCorrectionClarity2012 (3) | -0.327480 |
PaintCorrectionClarity2012 (9) | 0.000000 |
PaintCorrectionClarity2012 | -0.709217 |
PaintCorrectionContrast2012 (3) | 0.351706 |
PaintCorrectionContrast2012 | 0.000000 |
PaintCorrectionDefringe | 0.000000 |
PaintCorrectionExposure2012 (1) | -0.265912 |
PaintCorrectionExposure2012 (2) | -0.198753 |
PaintCorrectionExposure2012 (3) | 0.020499 |
PaintCorrectionExposure2012 (4) | -0.121631 |
PaintCorrectionExposure2012 (5) | -0.183773 |
PaintCorrectionExposure2012 (8) | -0.180763 |
PaintCorrectionExposure2012 | 0.116829 |
PaintCorrectionHighlights2012 (3) | 0.283687 |
PaintCorrectionHighlights2012 | 0.000000 |
PaintCorrectionHue | 240.000000 |
PaintCorrectionLuminanceNoise | 0.000000 |
PaintCorrectionMaskCenterWeight (2) | 0.021310 |
PaintCorrectionMaskCenterWeight (39) | 0.040519 |
PaintCorrectionMaskCenterWeight (41) | 0.000000 |
PaintCorrectionMaskCenterWeight | 0.024722 |
PaintCorrectionMaskFlow (44) | 0.739505 |
PaintCorrectionMaskFlow (50) | 0.955022 |
PaintCorrectionMaskFlow | 1.000000 |
PaintCorrectionMaskRadius (1) | 0.046365 |
PaintCorrectionMaskRadius (10) | 0.010883 |
PaintCorrectionMaskRadius (11) | 0.010882 |
PaintCorrectionMaskRadius (12) | 0.010880 |
PaintCorrectionMaskRadius (13) | 0.010877 |
PaintCorrectionMaskRadius (15) | 0.010787 |
PaintCorrectionMaskRadius (16) | 0.010786 |
PaintCorrectionMaskRadius (17) | 0.021270 |
PaintCorrectionMaskRadius (18) | 0.021269 |
PaintCorrectionMaskRadius (19) | 0.040480 |
PaintCorrectionMaskRadius (2) | 0.046378 |
PaintCorrectionMaskRadius (22) | 0.040472 |
PaintCorrectionMaskRadius (23) | 0.040473 |
PaintCorrectionMaskRadius (25) | 0.040479 |
PaintCorrectionMaskRadius (27) | 0.009495 |
PaintCorrectionMaskRadius (31) | 0.022199 |
PaintCorrectionMaskRadius (32) | 0.022196 |
PaintCorrectionMaskRadius (34) | 0.022203 |
PaintCorrectionMaskRadius (35) | 0.022201 |
PaintCorrectionMaskRadius (38) | 0.022202 |
PaintCorrectionMaskRadius (39) | 0.022198 |
PaintCorrectionMaskRadius (41) | 0.024684 |
PaintCorrectionMaskRadius (42) | 0.022208 |
PaintCorrectionMaskRadius (43) | 0.022207 |
PaintCorrectionMaskRadius (44) | 0.022206 |
PaintCorrectionMaskRadius (47) | 0.005209 |
PaintCorrectionMaskRadius (55) | 0.009496 |
PaintCorrectionMaskRadius (56) | 0.009497 |
PaintCorrectionMaskRadius (58) | 0.006795 |
PaintCorrectionMaskRadius (70) | 0.006793 |
PaintCorrectionMaskRadius (73) | 0.006794 |
PaintCorrectionMaskRadius (77) | 0.006792 |
PaintCorrectionMaskRadius (79) | 0.005790 |
PaintCorrectionMaskRadius (8) | 0.010884 |
PaintCorrectionMaskRadius (81) | 0.147395 |
PaintCorrectionMaskRadius (82) | 0.147341 |
PaintCorrectionMaskRadius (83) | 0.016666 |
PaintCorrectionMaskRadius (84) | 0.016650 |
PaintCorrectionMaskRadius (85) | 0.070965 |
PaintCorrectionMaskRadius (86) | 0.070923 |
PaintCorrectionMaskRadius (87) | 0.023290 |
PaintCorrectionMaskRadius (88) | 0.024670 |
PaintCorrectionMaskRadius (89) | 0.018149 |
PaintCorrectionMaskRadius (90) | 0.018151 |
PaintCorrectionMaskRadius (91) | 0.019154 |
PaintCorrectionMaskRadius (92) | 0.045938 |
PaintCorrectionMaskRadius (93) | 0.045920 |
PaintCorrectionMaskRadius (94) | 0.045877 |
PaintCorrectionMaskRadius (95) | 0.045951 |
PaintCorrectionMaskRadius | 0.010782 |
PaintCorrectionMaskValue (88) | 0.000000 |
PaintCorrectionMaskValue | 0.854941 |
PaintCorrectionMaskWhat | Mask/Paint |
PaintCorrectionMoire | 0.000000 |
PaintCorrectionSaturation | 0.000000 |
PaintCorrectionShadows2012 | 0.000000 |
PaintCorrectionSharpness (3) | 0.250000 |
PaintCorrectionSharpness | 0.000000 |
PaintCorrectionTemperature | 0.000000 |
PaintCorrectionTint | 0.000000 |
PaintCorrectionWhat | Correction |
ParametricDarks | 0 |
ParametricHighlights | 0 |
ParametricHighlightSplit | 75 |
ParametricLights | 0 |
ParametricMidtoneSplit | 50 |
ParametricShadows | 0 |
ParametricShadowSplit | 25 |
PerspectiveAspect | 0 |
PerspectiveHorizontal | 0 |
PerspectiveRotate | 0.0 |
PerspectiveScale | 100 |
PerspectiveUpright | 0 |
PerspectiveVertical | 0 |
PostCropVignetteAmount | -26 |
PostCropVignetteFeather | 50 |
PostCropVignetteHighlightContrast | 1 |
PostCropVignetteMidpoint | 50 |
PostCropVignetteRoundness | 0 |
PostCropVignetteStyle | 1 |
ProcessVersion | 6.7 |
ProfileDescription | sRGB IEC61966-2.1 |
Rating | 3 |
RawFileName | Sony_20150503_DSC01367.jpg |
RecommendedExposureIndex | 200 |
RedHue | 0 |
RedSaturation | 0 |
Rights | jmefoto@gmail.com |
Saturation | Normal |
ScaleFactor35efl | 2.7 |
SceneCaptureType | Standard |
SceneType | Directly photographed |
SensitivityType | Recommended Exposure Index |
Shadows2012 | +100 |
ShadowTint | 0 |
SharpenDetail | 25 |
SharpenEdgeMasking | 31 |
SharpenRadius | +1.0 |
Sharpness (1) | 70 |
Sharpness | Normal |
ShutterSpeed | 1/640 |
ShutterSpeedValue | 1/640 |
Software | Adobe Photoshop Lightroom 6.0 (Macintosh) |
SplitToningBalance | 0 |
SplitToningHighlightHue | 0 |
SplitToningHighlightSaturation | 0 |
SplitToningShadowHue | 0 |
SplitToningShadowSaturation | 0 |
Subject | London |
Tint | +12 |
ToneCurve | 0, 0, 255, 255 |
ToneCurveBlue | 0, 0, 255, 255 |
ToneCurveGreen | 0, 0, 255, 255 |
ToneCurveName | Linear |
ToneCurveName2012 | Linear |
ToneCurvePV2012 | 0, 0, 255, 255 |
ToneCurvePV2012Blue | 0, 0, 255, 255 |
ToneCurvePV2012Green | 0, 0, 255, 255 |
ToneCurvePV2012Red | 0, 0, 255, 255 |
ToneCurveRed | 0, 0, 255, 255 |
URL | www.jmefoto.com |
UsageTerms | © Jonas M Eriksson |
Version | 9.0 |
VignetteAmount | 0 |
WebStatement | www.jmefoto.com |
WhiteBalance (1) | As Shot |
WhiteBalance | Auto |
Whites2012 | +41 |