Felt | Verdi |
AlreadyApplied | True |
Aperture | 2.8 |
ApertureValue | 2.8 |
ApproximateFocusDistance | 1.22 |
Artist | Trond K Wiik |
AuthorsPosition | Photography |
AutoLateralCA | 0 |
AutoWhiteVersion | 134348800 |
BitsPerSample | 8 |
Blacks2012 | -52 |
BlueHue | 0 |
BlueSaturation | 0 |
By-line | Trond K Wiik |
By-lineTitle | Photography |
CameraProfile | Adobe Standard |
CircGradBasedCorrActive | true |
CircGradBasedCorrAmount | 1.000000 |
CircGradBasedCorrBrightness | 0.000000 |
CircGradBasedCorrClarity2012 (2) | -1.000000 |
CircGradBasedCorrClarity2012 | 0.370808 |
CircGradBasedCorrContrast2012 | 0.000000 |
CircGradBasedCorrDefringe | 0.000000 |
CircGradBasedCorrExposure2012 (1) | 0.195122 |
CircGradBasedCorrExposure2012 (2) | 0.165015 |
CircGradBasedCorrExposure2012 | 0.134527 |
CircGradBasedCorrHighlights2012 | 0.044493 |
CircGradBasedCorrHue | 0.000000 |
CircGradBasedCorrLocalBlacks2012 | 0.000000 |
CircGradBasedCorrLocalDehaze | 0.000000 |
CircGradBasedCorrLocalWhites2012 | 0.000000 |
CircGradBasedCorrLuminanceNoise | 0.000000 |
CircGradBasedCorrMaskAngle | 0.000000 |
CircGradBasedCorrMaskBottom (1) | 0.710404 |
CircGradBasedCorrMaskBottom (2) | 0.606908 |
CircGradBasedCorrMaskBottom (3) | 0.548642 |
CircGradBasedCorrMaskBottom (4) | 0.807198 |
CircGradBasedCorrMaskBottom (5) | 0.781380 |
CircGradBasedCorrMaskBottom | 0.775508 |
CircGradBasedCorrMaskFeather | +100 |
CircGradBasedCorrMaskFlipped | true |
CircGradBasedCorrMaskLeft (1) | 0.695030 |
CircGradBasedCorrMaskLeft (2) | 0.408655 |
CircGradBasedCorrMaskLeft (3) | 0.107472 |
CircGradBasedCorrMaskLeft (4) | 0.708635 |
CircGradBasedCorrMaskLeft (5) | 0.120760 |
CircGradBasedCorrMaskLeft | 0.347218 |
CircGradBasedCorrMaskMidpoint | +50 |
CircGradBasedCorrMaskRight (1) | 0.789252 |
CircGradBasedCorrMaskRight (2) | 0.559100 |
CircGradBasedCorrMaskRight (3) | 0.321258 |
CircGradBasedCorrMaskRight (4) | 0.923640 |
CircGradBasedCorrMaskRight (5) | 0.334508 |
CircGradBasedCorrMaskRight | 0.567066 |
CircGradBasedCorrMaskRoundness | 0 |
CircGradBasedCorrMaskTop (1) | 0.504333 |
CircGradBasedCorrMaskTop (2) | 0.339053 |
CircGradBasedCorrMaskTop (3) | 0.347191 |
CircGradBasedCorrMaskTop (4) | 0.604598 |
CircGradBasedCorrMaskTop (5) | 0.579964 |
CircGradBasedCorrMaskTop | 0.568344 |
CircGradBasedCorrMaskValue | 1.000000 |
CircGradBasedCorrMaskVersion | +2 |
CircGradBasedCorrMaskWhat | Mask/CircularGradient |
CircGradBasedCorrMoire | 0.000000 |
CircGradBasedCorrSaturation | 0.000000 |
CircGradBasedCorrShadows2012 | 0.000000 |
CircGradBasedCorrSharpness (2) | 1.000000 |
CircGradBasedCorrSharpness | 0.000000 |
CircGradBasedCorrTemperature | 0.000000 |
CircGradBasedCorrTint | 0.000000 |
CircGradBasedCorrWhat | Correction |
CircleOfConfusion | 0.015 mm |
City | Sandefjord |
Clarity2012 | +49 |
ColorComponents | 3 |
ColorNoiseReduction | 25 |
ColorNoiseReductionDetail | 50 |
ColorNoiseReductionSmoothness | 50 |
ColorSpace | sRGB |
ColorTemperature | 5100 |
ColorTransform | YCbCr |
Contrast2012 | +36 |
ConvertToGrayscale | True |
Country | Norway |
Country-PrimaryLocationCode | NO |
Country-PrimaryLocationName | Norway |
CountryCode | NO |
CreateDate (1) | 2017:08:06 14:23:20.00 |
CreateDate | 2017:08:06 14:23:20 |
Creator | Trond K Wiik |
CreatorAddress | Tjødnavegen 19 |
CreatorCity | Straume |
CreatorCountry | Norway |
CreatorPostalCode | 5354 |
CreatorRegion | Bergen |
CreatorTool | Adobe Photoshop Lightroom 6.9 (Macintosh) |
CreatorWorkEmail | norwayinphoto@gmail.com |
CreatorWorkTelephone | 45266227 |
CreatorWorkURL | norwayinphoto.com |
CropAngle | -0.071867 |
CropBottom | 0.990898 |
CropConstrainToWarp | 1 |
CropLeft | 0.138776 |
CropRight | 0.937094 |
CropTop | 0.011773 |
CustomRendered | Normal |
DateCreated (1) | 2017:08:06 |
DateCreated | 2017:08:06 14:23:20.00 |
DateTimeOriginal | 2017:08:06 14:23:20 |
Dehaze | 0 |
DOF | 0.07 m (1.19 - 1.25 m) |
Exposure2012 | +0.20 |
ExposureCompensation | 0 |
ExposureMode | Manual |
ExposureProgram | Manual |
ExposureTime | 1/1600 |
Firmware | 1.1.7 |
Flash | Off, Did not fire |
FlashCompensation | 0 |
FNumber | 2.8 |
FocalLength | 42.0 mm |
FocalLength35efl | 42.0 mm (35 mm equivalent: 85.5 mm) |
Format | image/jpeg |
FOV | 23.8 deg |
GPSLatitude (1) | 59 deg 7' 52.00" |
GPSLatitude | 59 deg 7' 52.00" N |
GPSLatitudeRef | North |
GPSLongitude (1) | 10 deg 13' 0.00" |
GPSLongitude | 10 deg 13' 0.00" E |
GPSLongitudeRef | East |
GPSPosition | 59 deg 7' 52.00" N, 10 deg 13' 0.00" E |
GPSVersionID | 2.2.0.0 |
GradientBasedCorrActive | true |
GradientBasedCorrAmount | 1.000000 |
GradientBasedCorrBrightness | 0.000000 |
GradientBasedCorrClarity2012 | -0.004542 |
GradientBasedCorrContrast2012 (2) | 0.000000 |
GradientBasedCorrContrast2012 | 0.391768 |
GradientBasedCorrDefringe | 0.000000 |
GradientBasedCorrExposure2012 | -0.239735 |
GradientBasedCorrHighlights2012 | -1.000000 |
GradientBasedCorrHue | 0.000000 |
GradientBasedCorrLocalBlacks2012 | 0.000000 |
GradientBasedCorrLocalDehaze | 0.000000 |
GradientBasedCorrLocalWhites2012 | 0.000000 |
GradientBasedCorrLuminanceNoise | 0.000000 |
GradientBasedCorrMaskFullX (1) | 0.563880 |
GradientBasedCorrMaskFullX (2) | 0.533135 |
GradientBasedCorrMaskFullX | 0.548308 |
GradientBasedCorrMaskFullY (1) | 0.127282 |
GradientBasedCorrMaskFullY (2) | -0.054333 |
GradientBasedCorrMaskFullY | 1.177360 |
GradientBasedCorrMaskValue | 1.000000 |
GradientBasedCorrMaskWhat | Mask/Gradient |
GradientBasedCorrMaskZeroX (1) | 0.563299 |
GradientBasedCorrMaskZeroX (2) | 0.535119 |
GradientBasedCorrMaskZeroX | 0.554692 |
GradientBasedCorrMaskZeroY (1) | 0.509699 |
GradientBasedCorrMaskZeroY (2) | 0.303305 |
GradientBasedCorrMaskZeroY | 0.759625 |
GradientBasedCorrMoire | 0.000000 |
GradientBasedCorrSaturation | 0.000000 |
GradientBasedCorrShadows2012 | 0.000000 |
GradientBasedCorrSharpness | 0.000000 |
GradientBasedCorrTemperature | 0.000000 |
GradientBasedCorrTint | 0.000000 |
GradientBasedCorrWhat | Correction |
GrainAmount | 0 |
GrayMixerAqua | -18 |
GrayMixerBlue | -28 |
GrayMixerGreen | -28 |
GrayMixerMagenta | +4 |
GrayMixerOrange | -21 |
GrayMixerPurple | +19 |
GrayMixerRed | -11 |
GrayMixerYellow | -25 |
GreenHue | 0 |
GreenSaturation | 0 |
HasCrop | True |
HasSettings | True |
Highlights2012 | -100 |
HyperfocalDistance | 42.66 m |
ImageHeight | 2049 |
ImageNumber | 0 |
ImageSize | 2500x2049 |
ImageWidth | 2500 |
ISO | 100 |
Keywords | Canon, Colombian, Lightroom, Sitron, Yoanna Fandino, alone, amazing, babe, badgirl, balck, beautiful, boobs, caliente, eyes, fashion, fitness, girl, glamour, hot, latino, love, lovely, mackup, model, moment, people, percing, photooftheday, photoshots, playboy, portrait, sexy, she, sweet, true, white, yoyofandino |
Lens | EF24-70mm f/2.8L USM |
LensID (1) | 230 |
LensID | Canon EF 24-70mm f/2.8L USM |
LensInfo | 24-70mm f/? |
LensManualDistortionAmount | 0 |
LensModel | EF24-70mm f/2.8L USM |
LensProfileChromaticAberrationScale | 100 |
LensProfileDistortionScale | 100 |
LensProfileEnable | 1 |
LensProfileFilename | Canon EOS-1Ds Mark III (Canon EF 24-70mm f2.8 L USM) - RAW.lcp |
LensProfileName | Adobe (Canon EF 24-70mm f/2.8 L USM) |
LensProfileSetup | LensDefaults |
LensProfileVignettingScale | 100 |
LensSerialNumber | 0000000000 |
LightValue | 13.6 |
LuminanceNoiseReductionContrast | 0 |
LuminanceNoiseReductionDetail | 50 |
LuminanceSmoothing | 11 |
Make | Canon |
MaxApertureValue | 2.8 |
Megapixels | 5.1 |
MeteringMode | Multi-segment |
Model | Canon EOS 6D |
ModifyDate (1) | 2017:08:11 19:03:43+02:00 |
ModifyDate | 2017:08:11 19:03:43 |
ParametricDarks | 0 |
ParametricHighlights | 0 |
ParametricHighlightSplit | 75 |
ParametricLights | 0 |
ParametricMidtoneSplit | 50 |
ParametricShadows | 0 |
ParametricShadowSplit | 25 |
PerspectiveAspect | 0 |
PerspectiveHorizontal | 0 |
PerspectiveRotate | 0.0 |
PerspectiveScale | 100 |
PerspectiveUpright | 1 |
PerspectiveVertical | 0 |
PerspectiveX | 0.00 |
PerspectiveY | 0.00 |
PostCropVignetteAmount | 0 |
ProcessVersion | 6.7 |
ProfileDescription | sRGB IEC61966-2.1 |
Province-State | Vestfold |
RecommendedExposureIndex | 100 |
RedHue | 0 |
RedSaturation | 0 |
ScaleFactor35efl | 2.0 |
SceneCaptureType | Standard |
SensitivityType | Recommended Exposure Index |
SerialNumber | 043024015066 |
Shadows2012 | +97 |
ShadowTint | 0 |
SharpenDetail | 25 |
SharpenEdgeMasking | 61 |
SharpenRadius | +1.0 |
Sharpness | 74 |
ShutterSpeed | 1/1600 |
ShutterSpeedValue | 1/1600 |
Software | Adobe Photoshop Lightroom 6.9 (Macintosh) |
SplitToningBalance | 0 |
SplitToningHighlightHue | 0 |
SplitToningHighlightSaturation | 0 |
SplitToningShadowHue | 0 |
SplitToningShadowSaturation | 0 |
State | Vestfold |
Subject | Canon, Colombian, Lightroom, Sitron, Yoanna Fandino, alone, amazing, babe, badgirl, balck, beautiful, boobs, caliente, eyes, fashion, fitness, girl, glamour, hot, latino, love, lovely, mackup, model, moment, people, percing, photooftheday, photoshots, playboy, portrait, sexy, she, sweet, true, white, yoyofandino |
Tint | +6 |
ToneCurve | 0, 0, 255, 255 |
ToneCurveBlue | 0, 0, 255, 255 |
ToneCurveGreen | 0, 0, 255, 255 |
ToneCurveName | Linear |
ToneCurveName2012 | Linear |
ToneCurvePV2012 | 0, 0, 255, 255 |
ToneCurvePV2012Blue | 0, 0, 255, 255 |
ToneCurvePV2012Green | 0, 0, 255, 255 |
ToneCurvePV2012Red | 0, 0, 255, 255 |
ToneCurveRed | 0, 0, 255, 255 |
ToneMapStrength | 0 |
Version | 9.9 |
VignetteAmount | 0 |
WhiteBalance (1) | As Shot |
WhiteBalance | Auto |
Whites2012 | +27 |