Felt | Verdi |
AlreadyApplied | True |
Aperture | 5.6 |
ApertureValue | 5.6 |
ApproximateFocusDistance | 21.2 |
Artist | Svein Gunnar Johansen. Tlf:95100949 |
AutoLateralCA | 0 |
AutoWhiteVersion | 134348800 |
BitsPerSample | 8 |
Blacks2012 | 0 |
BlueHue | 0 |
BlueSaturation | 0 |
By-line | Svein Gunnar Johansen. Tlf:95100 |
CameraProfile | Adobe Standard |
CircleOfConfusion | 0.011 mm |
Clarity2012 | 0 |
ColorComponents | 3 |
ColorNoiseReduction | 25 |
ColorNoiseReductionDetail | 50 |
ColorNoiseReductionSmoothness | 50 |
ColorTemperature | 5300 |
ColorTransform | YCbCr |
Contrast2012 | +17 |
ConvertToGrayscale | False |
Copyright | Svein Gunnar Johansen |
CopyrightNotice | Svein Gunnar Johansen |
CreateDate (1) | 2018:03:31 13:31:25.80 |
CreateDate | 2018:03:31 13:31:25 |
Creator | Svein Gunnar Johansen. Tlf:95100949 |
CreatorTool | Adobe Photoshop Lightroom 6.0 (Windows) |
CropAngle | 0 |
CropBottom | 0.65035 |
CropConstrainToWarp | 0 |
CropLeft | 0.236719 |
CropRight | 0.802423 |
CropTop | 0 |
CustomRendered | Normal |
DateCreated (1) | 2018:03:31 13:31:25.80 |
DateCreated | 2018:03:31 |
DateTimeOriginal | 2018:03:31 13:31:25 |
DefringeGreenAmount | 0 |
DefringeGreenHueHi | 60 |
DefringeGreenHueLo | 40 |
DefringePurpleAmount | 0 |
DefringePurpleHueHi | 70 |
DefringePurpleHueLo | 30 |
DOF | 0.34 m (21.03 - 21.37 m) |
Exposure2012 | -0.39 |
ExposureCompensation | 0 |
ExposureMode | Auto |
ExposureProgram | Aperture-priority AE |
ExposureTime | 1/8000 |
Firmware | 1.1.2 |
Flash | Off, Did not fire |
FlashCompensation | 0 |
FNumber | 5.6 |
FocalLength | 400.0 mm |
FocalLength35efl | 400.0 mm (35 mm equivalent: 1087.9 mm) |
Format | image/jpeg |
FOV | 1.9 deg |
GrainAmount | 0 |
GreenHue | 0 |
GreenSaturation | 0 |
HasCrop | True |
HasSettings | True |
Highlights2012 | 0 |
HueAdjustmentAqua | 0 |
HueAdjustmentBlue | 0 |
HueAdjustmentGreen | 0 |
HueAdjustmentMagenta | 0 |
HueAdjustmentOrange | 0 |
HueAdjustmentPurple | 0 |
HueAdjustmentRed | 0 |
HueAdjustmentYellow | 0 |
HyperfocalDistance | 2586.31 m |
ImageHeight | 2373 |
ImageNumber | 0 |
ImageSize | 3096x2373 |
ImageWidth | 3096 |
ISO | 1000 |
Lens | 140-400mm |
LensID (1) | 173 |
LensID | Venus Laowa 100mm F2.8 2X Ultra Macro APO + 1.4x |
LensInfo | 140-400mm f/? |
LensManualDistortionAmount | 0 |
LensModel | 140-400mm |
LensProfileEnable | 0 |
LensProfileSetup | LensDefaults |
LensSerialNumber | 0000000000 |
LightValue | 14.6 |
LuminanceAdjustmentAqua | 0 |
LuminanceAdjustmentBlue | 0 |
LuminanceAdjustmentGreen | 0 |
LuminanceAdjustmentMagenta | 0 |
LuminanceAdjustmentOrange | 0 |
LuminanceAdjustmentPurple | 0 |
LuminanceAdjustmentRed | 0 |
LuminanceAdjustmentYellow | 0 |
LuminanceSmoothing | 0 |
Make | Canon |
MaxApertureValue | 5.7 |
Megapixels | 7.3 |
MeteringMode | Center-weighted average |
Model | Canon EOS 70D |
ModifyDate (1) | 2018:03:31 17:32:56+02:00 |
ModifyDate | 2018:03:31 17:32:56 |
Orientation | Horizontal (normal) |
ParametricDarks | 0 |
ParametricHighlights | 0 |
ParametricHighlightSplit | 75 |
ParametricLights | 0 |
ParametricMidtoneSplit | 50 |
ParametricShadows | 0 |
ParametricShadowSplit | 25 |
PerspectiveAspect | 0 |
PerspectiveHorizontal | 0 |
PerspectiveRotate | 0.0 |
PerspectiveScale | 100 |
PerspectiveUpright | 0 |
PerspectiveVertical | 0 |
PostCropVignetteAmount | 0 |
ProcessVersion | 6.7 |
ProfileDescription | sRGB IEC61966-2.1 |
RawFileName | 20180331-_MG_3273.jpg |
RecommendedExposureIndex | 1000 |
RedHue | 0 |
RedSaturation | 0 |
Rights | Svein Gunnar Johansen |
Saturation | 0 |
SaturationAdjustmentAqua | 0 |
SaturationAdjustmentBlue | 0 |
SaturationAdjustmentGreen | 0 |
SaturationAdjustmentMagenta | 0 |
SaturationAdjustmentOrange | 0 |
SaturationAdjustmentPurple | 0 |
SaturationAdjustmentRed | 0 |
SaturationAdjustmentYellow | 0 |
ScaleFactor35efl | 2.7 |
SceneCaptureType | Standard |
SensitivityType | Recommended Exposure Index |
SerialNumber | 173056007687 |
Shadows2012 | 0 |
ShadowTint | 0 |
SharpenDetail | 25 |
SharpenEdgeMasking | 0 |
SharpenRadius | +1.0 |
Sharpness | 25 |
ShutterSpeed | 1/8000 |
ShutterSpeedValue | 1/8000 |
Software | Adobe Photoshop Lightroom 6.0 (Windows) |
SplitToningBalance | 0 |
SplitToningHighlightHue | 0 |
SplitToningHighlightSaturation | 0 |
SplitToningShadowHue | 0 |
SplitToningShadowSaturation | 0 |
Tint | +13 |
ToneCurve | 0, 0, 255, 255 |
ToneCurveBlue | 0, 0, 255, 255 |
ToneCurveGreen | 0, 0, 255, 255 |
ToneCurveName | Linear |
ToneCurveName2012 | Linear |
ToneCurvePV2012 | 0, 0, 255, 255 |
ToneCurvePV2012Blue | 0, 0, 255, 255 |
ToneCurvePV2012Green | 0, 0, 255, 255 |
ToneCurvePV2012Red | 0, 0, 255, 255 |
ToneCurveRed | 0, 0, 255, 255 |
Version | 9.0 |
Vibrance | 0 |
VignetteAmount | 0 |
WhiteBalance (1) | As Shot |
WhiteBalance | Manual |
Whites2012 | 0 |