Felt | Verdi |
AlreadyApplied | True |
Aperture | 2.8 |
ApertureValue | 2.8 |
ApproximateFocusDistance | 2.51 |
Artist | DJohannesen |
AutoLateralCA | 0 |
AutoWhiteVersion | 134348800 |
BitsPerSample | 8 |
Blacks2012 | 0 |
BlueHue | 0 |
BlueSaturation | 0 |
By-line | DJohannesen |
CameraProfile | Adobe Standard |
CFAPattern | [Red,Green][Green,Blue] |
CircleOfConfusion | 0.030 mm |
Clarity2012 | +26 |
ColorComponents | 3 |
ColorNoiseReduction | 25 |
ColorNoiseReductionDetail | 50 |
ColorNoiseReductionSmoothness | 50 |
ColorTemperature | 5400 |
ColorTransform | YCbCr |
Contrast | Normal |
Contrast2012 | +40 |
ConvertToGrayscale | True |
Copyright | Daniel Johannesen |
CopyrightNotice | Daniel Johannesen |
CreateDate (1) | 2014:05:30 20:13:25.90 |
CreateDate | 2014:05:30 20:13:25 |
Creator | DJohannesen |
CreatorTool | Adobe Photoshop Lightroom 5.5 (Windows) |
CropAngle | 0 |
CropBottom | 0.995186 |
CropConstrainToWarp | 0 |
CropLeft | 0.352175 |
CropRight | 1 |
CropTop | 0 |
CustomRendered | Custom |
DateCreated (1) | 2014:05:30 |
DateCreated | 2014:05:30 20:13:25.90 |
DateTimeOriginal | 2014:05:30 20:13:25 |
DigitalZoomRatio | 1 |
DOF | 2.10 m (1.84 - 3.94 m) |
Exposure2012 | 0.00 |
ExposureCompensation | 0 |
ExposureMode | Manual |
ExposureProgram | Manual |
ExposureTime | 1/2500 |
Flash | Off, Did not fire |
FNumber | 2.8 |
FocalLength | 24.0 mm |
FocalLength35efl | 24.0 mm (35 mm equivalent: 24.0 mm) |
FocalLengthIn35mmFormat | 24 mm |
Format | image/jpeg |
FOV | 73.7 deg |
GainControl | Low gain up |
GradientBasedCorrActive | true |
GradientBasedCorrAmount | 1.000000 |
GradientBasedCorrBrightness | 0.000000 |
GradientBasedCorrClarity2012 (1) | 0.056600 |
GradientBasedCorrClarity2012 (2) | 1.000000 |
GradientBasedCorrClarity2012 | 0.075470 |
GradientBasedCorrContrast2012 (1) | 0.000000 |
GradientBasedCorrContrast2012 (2) | 0.094340 |
GradientBasedCorrContrast2012 (3) | 0.471700 |
GradientBasedCorrContrast2012 | 0.113210 |
GradientBasedCorrDefringe | 0.000000 |
GradientBasedCorrExposure2012 (1) | -0.018750 |
GradientBasedCorrExposure2012 (2) | -0.356250 |
GradientBasedCorrExposure2012 (3) | -0.264250 |
GradientBasedCorrExposure2012 | -0.075500 |
GradientBasedCorrHighlights2012 (1) | 0.867920 |
GradientBasedCorrHighlights2012 (2) | -0.056600 |
GradientBasedCorrHighlights2012 (3) | 0.379310 |
GradientBasedCorrHighlights2012 | 0.056600 |
GradientBasedCorrHue | 260.000000 |
GradientBasedCorrLuminanceNoise | 0.000000 |
GradientBasedCorrMaskFullX (1) | 0.401207 |
GradientBasedCorrMaskFullX (2) | 0.941125 |
GradientBasedCorrMaskFullX (3) | 0.856775 |
GradientBasedCorrMaskFullX | 1.006630 |
GradientBasedCorrMaskFullY (1) | 0.568688 |
GradientBasedCorrMaskFullY (2) | 0.565188 |
GradientBasedCorrMaskFullY (3) | 0.921732 |
GradientBasedCorrMaskFullY | 0.447167 |
GradientBasedCorrMaskValue | 1.000000 |
GradientBasedCorrMaskWhat | Mask/Gradient |
GradientBasedCorrMaskZeroX (1) | 0.674111 |
GradientBasedCorrMaskZeroX (2) | 0.737291 |
GradientBasedCorrMaskZeroX (3) | 0.765055 |
GradientBasedCorrMaskZeroX | 0.645096 |
GradientBasedCorrMaskZeroY (1) | 0.567418 |
GradientBasedCorrMaskZeroY (2) | 0.543263 |
GradientBasedCorrMaskZeroY (3) | 0.540054 |
GradientBasedCorrMaskZeroY | 0.191248 |
GradientBasedCorrMoire | 0.000000 |
GradientBasedCorrSaturation (7) | 0.113210 |
GradientBasedCorrSaturation | 0.000000 |
GradientBasedCorrShadows2012 (1) | 0.358490 |
GradientBasedCorrShadows2012 | 0.000000 |
GradientBasedCorrSharpness (3) | 0.018870 |
GradientBasedCorrSharpness | 0.886790 |
GradientBasedCorrTemperature | 0.094340 |
GradientBasedCorrTint | -0.018870 |
GradientBasedCorrWhat | Correction |
GrainAmount | 0 |
GrayMixerAqua | -100 |
GrayMixerBlue | -100 |
GrayMixerGreen | +10 |
GrayMixerMagenta | +8 |
GrayMixerOrange | +43 |
GrayMixerPurple | -32 |
GrayMixerRed | +83 |
GrayMixerYellow | -50 |
GreenHue | 0 |
GreenSaturation | 0 |
HasCrop | True |
HasExtendedXMP | 63BB4C94BAD86A48326EC618D08A2FFA |
HasSettings | True |
Highlights2012 | -100 |
HyperfocalDistance | 6.85 m |
ImageHeight | 4888 |
ImageNumber | 21401 |
ImageSize | 4768x4888 |
ImageWidth | 4768 |
ISO | 500 |
Lens | 24.0-70.0 mm f/2.8 |
LensID (1) | 147 |
LensID | AF-S Zoom-Nikkor 24-70mm f/2.8G ED |
LensInfo | 24-70mm f/2.8 |
LensManualDistortionAmount | 0 |
LensModel | 24.0-70.0 mm f/2.8 |
LensProfileChromaticAberrationScale | 100 |
LensProfileDistortionScale | 100 |
LensProfileEnable | 0 |
LensProfileFilename | NIKON D3X (Nikon FX 24-70mm f2.8 G ED) - RAW.lcp |
LensProfileName | Adobe (Nikon AF-S NIKKOR 24-70mm f/2.8G ED) |
LensProfileSetup | LensDefaults |
LensProfileVignettingScale | 100 |
LightSource | Unknown |
LightValue | 11.9 |
LuminanceSmoothing | 0 |
Make | NIKON CORPORATION |
MaxApertureValue | 2.8 |
Megapixels | 23.3 |
MeteringMode | Multi-segment |
Model | NIKON D800 |
ModifyDate (1) | 2016:09:04 02:14:30+02:00 |
ModifyDate | 2016:09:04 02:14:30 |
PaintCorrectionActive | true |
PaintCorrectionAmount | 1.000000 |
PaintCorrectionBrightness | 0.000000 |
PaintCorrectionClarity2012 (1) | 0.113210 |
PaintCorrectionClarity2012 (11) | 0.056600 |
PaintCorrectionClarity2012 (12) | -0.056600 |
PaintCorrectionClarity2012 (13) | -0.018870 |
PaintCorrectionClarity2012 (14) | 0.494250 |
PaintCorrectionClarity2012 (3) | 0.954020 |
PaintCorrectionClarity2012 (4) | 0.018870 |
PaintCorrectionClarity2012 (5) | 0.490570 |
PaintCorrectionClarity2012 (6) | -0.188680 |
PaintCorrectionClarity2012 (9) | 0.037740 |
PaintCorrectionClarity2012 | 1.000000 |
PaintCorrectionContrast2012 (1) | 0.603770 |
PaintCorrectionContrast2012 (13) | -0.018870 |
PaintCorrectionContrast2012 (2) | 0.632180 |
PaintCorrectionContrast2012 (3) | 0.655170 |
PaintCorrectionContrast2012 (4) | -0.037740 |
PaintCorrectionContrast2012 (7) | 0.075470 |
PaintCorrectionContrast2012 (9) | 0.830190 |
PaintCorrectionContrast2012 | 0.000000 |
PaintCorrectionDefringe | 0.000000 |
PaintCorrectionExposure2012 (1) | 0.547250 |
PaintCorrectionExposure2012 (10) | 0.018750 |
PaintCorrectionExposure2012 (11) | -0.151000 |
PaintCorrectionExposure2012 (13) | 0.056500 |
PaintCorrectionExposure2012 (14) | 0.264250 |
PaintCorrectionExposure2012 (2) | 0.195500 |
PaintCorrectionExposure2012 (3) | 0.379250 |
PaintCorrectionExposure2012 (4) | 0.037750 |
PaintCorrectionExposure2012 (5) | 0.000000 |
PaintCorrectionExposure2012 (6) | 0.245250 |
PaintCorrectionExposure2012 (7) | 0.075500 |
PaintCorrectionExposure2012 (8) | -0.018750 |
PaintCorrectionExposure2012 (9) | 0.094250 |
PaintCorrectionExposure2012 | -0.149500 |
PaintCorrectionHighlights2012 (1) | 0.132080 |
PaintCorrectionHighlights2012 (10) | -0.018870 |
PaintCorrectionHighlights2012 (12) | -0.150940 |
PaintCorrectionHighlights2012 (13) | -0.056600 |
PaintCorrectionHighlights2012 (4) | -0.075470 |
PaintCorrectionHighlights2012 (5) | -0.509430 |
PaintCorrectionHighlights2012 (6) | -0.037740 |
PaintCorrectionHighlights2012 (7) | 1.000000 |
PaintCorrectionHighlights2012 (8) | 0.018870 |
PaintCorrectionHighlights2012 (9) | 0.037740 |
PaintCorrectionHighlights2012 | 0.000000 |
PaintCorrectionHue (10) | 260.000000 |
PaintCorrectionHue | 0.000000 |
PaintCorrectionLuminanceNoise | 0.000000 |
PaintCorrectionMaskCenterWeight (11) | 0.000000 |
PaintCorrectionMaskCenterWeight (62) | 0.022269 |
PaintCorrectionMaskCenterWeight | 0.102357 |
PaintCorrectionMaskFlow | 1.000000 |
PaintCorrectionMaskRadius (1) | 0.419645 |
PaintCorrectionMaskRadius (10) | 0.008769 |
PaintCorrectionMaskRadius (14) | 0.034836 |
PaintCorrectionMaskRadius (15) | 0.017998 |
PaintCorrectionMaskRadius (2) | 0.029120 |
PaintCorrectionMaskRadius (20) | 0.007287 |
PaintCorrectionMaskRadius (23) | 0.046576 |
PaintCorrectionMaskRadius (25) | 0.023507 |
PaintCorrectionMaskRadius (29) | 0.012591 |
PaintCorrectionMaskRadius (3) | 0.011120 |
PaintCorrectionMaskRadius (32) | 0.040655 |
PaintCorrectionMaskRadius (33) | 0.052601 |
PaintCorrectionMaskRadius (35) | 0.003103 |
PaintCorrectionMaskRadius (48) | 0.001194 |
PaintCorrectionMaskRadius (50) | 0.016002 |
PaintCorrectionMaskRadius (51) | 0.017124 |
PaintCorrectionMaskRadius (52) | 0.029273 |
PaintCorrectionMaskRadius (55) | 0.031906 |
PaintCorrectionMaskRadius (56) | 0.035981 |
PaintCorrectionMaskRadius (57) | 0.052223 |
PaintCorrectionMaskRadius (59) | 0.067622 |
PaintCorrectionMaskRadius (61) | 0.040111 |
PaintCorrectionMaskRadius (62) | 0.053629 |
PaintCorrectionMaskRadius (64) | 0.021680 |
PaintCorrectionMaskRadius (65) | 0.243182 |
PaintCorrectionMaskRadius (67) | 0.008390 |
PaintCorrectionMaskRadius (7) | 0.007788 |
PaintCorrectionMaskRadius (75) | 0.016591 |
PaintCorrectionMaskRadius (77) | 0.011597 |
PaintCorrectionMaskRadius (8) | 0.018041 |
PaintCorrectionMaskRadius | 0.136447 |
PaintCorrectionMaskValue (70) | 0.000000 |
PaintCorrectionMaskValue | 1.000000 |
PaintCorrectionMaskWhat | Mask/Paint |
PaintCorrectionMoire | 0.000000 |
PaintCorrectionSaturation (21) | 0.113210 |
PaintCorrectionSaturation | 0.000000 |
PaintCorrectionShadows2012 (10) | -0.471700 |
PaintCorrectionShadows2012 (8) | -0.018870 |
PaintCorrectionShadows2012 (9) | 0.000000 |
PaintCorrectionShadows2012 | 0.057470 |
PaintCorrectionSharpness (11) | 0.018870 |
PaintCorrectionSharpness (9) | 0.320750 |
PaintCorrectionSharpness | 0.000000 |
PaintCorrectionTemperature (10) | 0.094340 |
PaintCorrectionTemperature | 0.011490 |
PaintCorrectionTint (7) | -0.018870 |
PaintCorrectionTint | 0.000000 |
PaintCorrectionWhat | Correction |
ParametricDarks | 0 |
ParametricHighlights | 0 |
ParametricHighlightSplit | 75 |
ParametricLights | 0 |
ParametricMidtoneSplit | 50 |
ParametricShadows | 0 |
ParametricShadowSplit | 25 |
PerspectiveAspect | 0 |
PerspectiveHorizontal | 0 |
PerspectiveRotate | 0.0 |
PerspectiveScale | 100 |
PerspectiveUpright | 0 |
PerspectiveVertical | 0 |
PostCropVignetteAmount | 0 |
ProcessVersion | 6.7 |
ProfileDescription | sRGB IEC61966-2.1 |
RedHue | 0 |
RedSaturation | 0 |
Rights | Daniel Johannesen |
Saturation | Normal |
ScaleFactor35efl | 1.0 |
SceneCaptureType | Standard |
SceneType | Directly photographed |
SensingMethod | One-chip color area |
SensitivityType | Recommended Exposure Index |
SerialNumber | 6119526 |
Shadows2012 | +13 |
ShadowTint | 0 |
SharpenDetail | 25 |
SharpenEdgeMasking | 0 |
SharpenRadius | +1.0 |
Sharpness (1) | 89 |
Sharpness | Hard |
ShutterSpeed | 1/2500 |
ShutterSpeedValue | 1/2500 |
Software | Adobe Photoshop Lightroom 5.5 (Windows) |
SplitToningBalance | 0 |
SplitToningHighlightHue | 0 |
SplitToningHighlightSaturation | 0 |
SplitToningShadowHue | 0 |
SplitToningShadowSaturation | 0 |
SubjectDistanceRange | Unknown |
Tint | +3 |
ToneCurve | 0, 0, 255, 255 |
ToneCurveBlue | 0, 0, 255, 255 |
ToneCurveGreen | 0, 0, 255, 255 |
ToneCurveName | Linear |
ToneCurveName2012 | Custom |
ToneCurvePV2012 | 0, 10, 39, 39, 82, 82, 128, 128, 153, 153, 204, 204, 255, 255 |
ToneCurvePV2012Blue | 0, 0, 255, 255 |
ToneCurvePV2012Green | 0, 0, 255, 255 |
ToneCurvePV2012Red | 0, 0, 255, 255 |
ToneCurveRed | 0, 0, 255, 255 |
Version | 8.5 |
VignetteAmount | 0 |
WhiteBalance (1) | As Shot |
WhiteBalance | Auto |
Whites2012 | 0 |