Felt | Verdi |
AEBBracketValue | 0 |
AlreadyApplied | True |
AngleAdj | 0 |
Aperture | 3.5 |
ApertureValue | 3.5 |
ApproximateFocusDistance | 4.1 |
Artist | |
AutoExposureBracketing | Off |
AutoISO | 100 |
AutoLateralCA | 0 |
AutoLightingOptimizer | n/a |
AutoLightingOptimizerOn | No |
AutoWhiteVersion | 134348800 |
BaseISO | 0 |
BitsPerSample | 8 |
Blacks2012 | -8 |
BlueCurveLimits | 255 0 255 0 |
BlueCurvePoints | (0,0) (255,255) |
BlueHue | 0 |
BlueSaturation | 0 |
BrightnessAdj | 2 |
BulbDuration | 0 |
CameraProfile | Adobe Standard |
CameraType | n/a |
CanonExposureMode | Unknown (-1) |
CanonFirmwareVersion | |
CanonFlashMode | n/a |
CanonImageSize | n/a |
CanonImageType | |
CheckMark | Clear |
CheckMark2 | Clear |
ChromaticAberration | 100% |
ChromaticAberrationBlue | 0 |
ChromaticAberrationOn | No |
ChromaticAberrationRed | 0 |
ChrominanceNoiseReduction | 0 |
ChrominanceNR_TIFF_JPEG | 0 |
CircleOfConfusion | 0.019 mm |
Clarity2012 | +50 |
ColorBlur | No |
ColorComponents | 3 |
ColorMode | RGB |
ColorNoiseReduction | 25 |
ColorNoiseReductionDetail | 50 |
ColorNoiseReductionSmoothness | 50 |
ColorSpace | sRGB |
ColorTemperature | 4903 |
ColorToneAdj | 0 |
ConstrainedCropHeight | 0 |
ConstrainedCropWidth | 0 |
ContinuousDrive | Unknown (-1) |
Contrast2012 | +18 |
ContrastAdj | 0 |
ControlMode | n/a |
ConvertToGrayscale | False |
CreateDate (1) | 2017:05:05 07:53:07+02:00 |
CreateDate | 2017:05:05 07:53:07 |
CreatorTool | Adobe Photoshop Lightroom 6.10 (Windows) |
CropActive | No |
CropAspectRatio | Free |
CropCircleActive | No |
CropCircleRadius | 0 |
CropCircleX | 0 |
CropCircleY | 0 |
CropHeight | 0 |
CropLeft | 0 |
CropTop | 0 |
CropWidth | 0 |
CustomColorTone | 0 |
CustomContrast | 0 |
CustomDefaultUnsharpFineness | 7 |
CustomDefaultUnsharpStrength | 0 |
CustomDefaultUnsharpThreshold | 1 |
CustomLinear | No |
CustomOutputHighlightPoint | 0 |
CustomOutputShadowPoint | 0 |
CustomRawHighlight | 0 |
CustomRawHighlightPoint | 0 |
CustomRawShadow | 0 |
CustomRawShadowPoint | 0 |
CustomRendered | Normal |
CustomSaturation | 0 |
CustomSharpness | 0 |
CustomUnsharpMaskFineness | 7 |
CustomUnsharpMaskStrength | 0 |
CustomUnsharpMaskThreshold | 1 |
DateCreated | 2017:05:05 07:53:07.003 |
DateTimeOriginal | 2017:05:05 07:53:07 |
DefringeGreenAmount | 0 |
DefringeGreenHueHi | 60 |
DefringeGreenHueLo | 40 |
DefringePurpleAmount | 0 |
DefringePurpleHueHi | 70 |
DefringePurpleHueLo | 30 |
Dehaze | 0 |
DigitalZoom | None |
DistortionCorrection | 100% |
DistortionCorrectionOn | No |
DOF | 8.21 m (2.53 - 10.75 m) |
DriveMode | Continuous Shooting |
DynamicRangeMax | 4095 |
DynamicRangeMin | 0 |
EasyMode | Unknown (-1) |
ExifImageHeight | 3456 |
ExifImageWidth | 5184 |
Exposure2012 | 0.00 |
ExposureCompensation | 0 |
ExposureMode | Auto |
ExposureTime | 1/30 |
FaithfulOutputHighlightPoint | 0 |
FaithfulOutputShadowPoint | 0 |
FaithfulRawColorTone | 0 |
FaithfulRawContrast | 0 |
FaithfulRawHighlight | 0 |
FaithfulRawHighlightPoint | 0 |
FaithfulRawLinear | No |
FaithfulRawSaturation | 0 |
FaithfulRawShadow | 0 |
FaithfulRawShadowPoint | 0 |
FaithfulRawSharpness | 0 |
FaithfulUnsharpMaskFineness | 7 |
FaithfulUnsharpMaskStrength | 0 |
FaithfulUnsharpMaskThreshold | 1 |
FileNumber | 0 |
Firmware | 1.0.1 |
Flash | Off, Did not fire |
FlashBits | (none) |
FlashCompensation | 0 |
FlashExposureComp | 0 |
FlashGuideNumber | 0 |
FNumber | 3.5 |
FocalLength | 21.0 mm |
FocalLength35efl | 21.0 mm (35 mm equivalent: 33.0 mm) |
FocalUnits | 32/mm |
FocusMode | Single |
FocusRange | Not Known |
Format | image/tiff |
FOV | 57.2 deg |
GrainAmount | 0 |
GreenCurveLimits | 255 0 255 0 |
GreenCurvePoints | (0,0) (255,255) |
GreenHue | 0 |
GreenSaturation | 0 |
HasCrop | False |
HasSettings | True |
Highlights2012 | -6 |
HueAdjustmentAqua | 0 |
HueAdjustmentBlue | 0 |
HueAdjustmentGreen | 0 |
HueAdjustmentMagenta | 0 |
HueAdjustmentOrange | -14 |
HueAdjustmentPurple | 0 |
HueAdjustmentRed | 0 |
HueAdjustmentYellow | 0 |
HyperfocalDistance | 6.60 m |
ICCProfileName | sRGB IEC61966-2.1 |
ImageHeight | 3456 |
ImageNumber | 0 |
ImageSize | 5184x3456 |
ImageWidth | 5184 |
IsCustomPictureStyle | No |
ISO (1) | 0 |
ISO | 100 |
LandscapeOutputHighlightPoint | 0 |
LandscapeOutputShadowPoint | 0 |
LandscapeRawColorTone | 0 |
LandscapeRawContrast | 0 |
LandscapeRawHighlight | 0 |
LandscapeRawHighlightPoint | 0 |
LandscapeRawLinear | No |
LandscapeRawSaturation | 0 |
LandscapeRawShadow | 0 |
LandscapeRawShadowPoint | 0 |
LandscapeRawSharpness | 0 |
LandscapeUnsharpMaskFineness | 7 |
LandscapeUnsharpMaskStrength | 0 |
LandscapeUnsharpMaskThreshold | 1 |
Lens (1) | 18-270mm |
Lens | 0.0 mm |
Lens35efl | 0.0 mm (35 mm equivalent: 0.0 mm) |
LensID (1) | 137 |
LensID | n/a |
LensInfo | 18-270mm f/? |
LensManualDistortionAmount | 0 |
LensModel | 18-270mm |
LensProfileEnable | 0 |
LensProfileSetup | LensDefaults |
LensSerialNumber | 0000000000 |
LensType | n/a |
LightValue | 8.5 |
LuminanceAdjustmentAqua | 0 |
LuminanceAdjustmentBlue | 0 |
LuminanceAdjustmentGreen | 0 |
LuminanceAdjustmentMagenta | 0 |
LuminanceAdjustmentOrange | +28 |
LuminanceAdjustmentPurple | 0 |
LuminanceAdjustmentRed | 0 |
LuminanceAdjustmentYellow | 0 |
LuminanceCurveLimits | 255 0 255 0 |
LuminanceCurvePoints | (0,0) (255,255) |
LuminanceNoiseReduction | 2 |
LuminanceNR_TIFF_JPEG | 0 |
LuminanceSmoothing | 0 |
MacroMode | Unknown (0) |
Make | Canon |
ManualFlashOutput | n/a |
MaxFocalLength | 0 mm |
MeasuredEV | 5.00 |
Megapixels | 17.9 |
MeteringMode | Unknown (-1) |
MinFocalLength | 0 mm |
Model | Canon EOS 600D |
ModifyDate (1) | 2017:05:07 19:11:12+02:00 |
ModifyDate | 2017:05:05 07:53:07 |
MonochromeContrast | 0 |
MonochromeFilterEffect | None |
MonochromeLinear | No |
MonochromeOutputHighlightPoint | 0 |
MonochromeOutputShadowPoint | 0 |
MonochromeRawHighlight | 0 |
MonochromeRawHighlightPoint | 0 |
MonochromeRawShadow | 0 |
MonochromeRawShadowPoint | 0 |
MonochromeSharpness | 0 |
MonochromeToningEffect | None |
MonochromeUnsharpMaskFineness | 7 |
MonochromeUnsharpMaskStrength | 0 |
MonochromeUnsharpMaskThreshold | 1 |
NDFilter | n/a |
NeutralOutputHighlightPoint | 0 |
NeutralOutputShadowPoint | 0 |
NeutralRawColorTone | 0 |
NeutralRawContrast | 0 |
NeutralRawHighlight | 0 |
NeutralRawHighlightPoint | 0 |
NeutralRawLinear | No |
NeutralRawSaturation | 0 |
NeutralRawShadow | 0 |
NeutralRawShadowPoint | 0 |
NeutralRawSharpness | 0 |
NeutralUnsharpMaskFineness | 7 |
NeutralUnsharpMaskThreshold | 1 |
NeutraUnsharpMaskStrength | 0 |
OpticalZoomCode | n/a |
Orientation | Horizontal (normal) |
OwnerName | |
PaintCorrectionActive | true |
PaintCorrectionAmount | 1.000000 |
PaintCorrectionBrightness | 0.000000 |
PaintCorrectionClarity2012 | 0.763780 |
PaintCorrectionContrast2012 | 0.212600 |
PaintCorrectionDefringe | -0.952760 |
PaintCorrectionExposure2012 (1) | 0.370000 |
PaintCorrectionExposure2012 (2) | -0.574750 |
PaintCorrectionExposure2012 | 0.669250 |
PaintCorrectionHighlights2012 | 0.291340 |
PaintCorrectionHue | 0.000000 |
PaintCorrectionLocalBlacks2012 (1) | -0.275590 |
PaintCorrectionLocalBlacks2012 | 0.000000 |
PaintCorrectionLocalDehaze | 0.000000 |
PaintCorrectionLocalWhites2012 | 0.000000 |
PaintCorrectionLuminanceNoise | 0.000000 |
PaintCorrectionMaskCenterWeight | 0.230724 |
PaintCorrectionMaskFlow | 0.923000 |
PaintCorrectionMaskRadius | 0.084615 |
PaintCorrectionMaskValue | 0.643000 |
PaintCorrectionMaskWhat | Mask/Paint |
PaintCorrectionMoire | 0.000000 |
PaintCorrectionSaturation (5) | 0.527560 |
PaintCorrectionSaturation | 0.000000 |
PaintCorrectionShadows2012 (1) | -0.228350 |
PaintCorrectionShadows2012 (2) | 0.212600 |
PaintCorrectionShadows2012 | -0.795280 |
PaintCorrectionSharpness (2) | 0.511810 |
PaintCorrectionSharpness | -0.700790 |
PaintCorrectionTemperature | 0.307090 |
PaintCorrectionTint | 0.244090 |
PaintCorrectionWhat | Correction |
ParametricDarks | +5 |
ParametricHighlights | -98 |
ParametricHighlightSplit | 75 |
ParametricLights | -10 |
ParametricMidtoneSplit | 50 |
ParametricShadows | -34 |
ParametricShadowSplit | 25 |
PeripheralIllumination | 100% |
PeripheralIlluminationOn | No |
PerspectiveAspect | 0 |
PerspectiveHorizontal | 0 |
PerspectiveRotate | 0.0 |
PerspectiveScale | 100 |
PerspectiveUpright | 0 |
PerspectiveVertical | 0 |
PerspectiveX | 0.00 |
PerspectiveY | 0.00 |
PictureStyle | Standard |
PortraitOutputHighlightPoint | 0 |
PortraitOutputShadowPoint | 0 |
PortraitRawColorTone | 0 |
PortraitRawContrast | 0 |
PortraitRawHighlight | 0 |
PortraitRawHighlightPoint | 0 |
PortraitRawLinear | No |
PortraitRawSaturation | 0 |
PortraitRawShadow | 0 |
PortraitRawShadowPoint | 0 |
PortraitRawSharpness | 0 |
PortraitUnsharpMaskFineness | 7 |
PortraitUnsharpMaskStrength | 0 |
PortraitUnsharpMaskThreshold | 1 |
PostCropVignetteAmount | 0 |
ProcessVersion | 6.7 |
ProfileDescription | sRGB v1.31 (Canon) |
Quality | Fine |
RawBrightnessAdj | 0.00 |
RawColorAdj | Shot Settings |
RawCustomSaturation | 0 |
RawCustomTone | 0 |
RecommendedExposureIndex | 100 |
RedCurveLimits | 255 0 255 0 |
RedCurvePoints | (0,0) (255,255) |
RedHue | 0 |
RedSaturation | 0 |
RelatedImageHeight | 3456 |
RelatedImageWidth | 5184 |
RGBCurveLimits | 252 0 255 3 |
RGBCurvePoints | (0,3) (252,255) |
Rotation | 0 |
Saturation | -27 |
SaturationAdj | 100 |
SaturationAdjustmentAqua | 0 |
SaturationAdjustmentBlue | 0 |
SaturationAdjustmentGreen | 0 |
SaturationAdjustmentMagenta | 0 |
SaturationAdjustmentOrange | +28 |
SaturationAdjustmentPurple | 0 |
SaturationAdjustmentRed | 0 |
SaturationAdjustmentYellow | 0 |
ScaleFactor35efl | 1.6 |
SceneCaptureType | Standard |
SelfTimer | Off |
SensitivityType | Recommended Exposure Index |
SequenceNumber | 0 |
SerialNumber | 123063012664 |
Shadows2012 | +11 |
ShadowTint | 0 |
SharpenDetail | 25 |
SharpenEdgeMasking | 0 |
SharpenRadius | +1.0 |
Sharpness | 25 |
SharpnessAdj | 0 |
ShootingMode | Unknown (-1) |
ShutterSpeed | 1/30 |
ShutterSpeedValue | 1/30 |
SlowShutter | None |
Software | Digital Photo Professional |
SplitToningBalance | 0 |
SplitToningHighlightHue | 0 |
SplitToningHighlightSaturation | 0 |
SplitToningShadowHue | 0 |
SplitToningShadowSaturation | 0 |
SRAWQuality | n/a |
StandardOutputHighlightPoint | 0 |
StandardOutputShadowPoint | 0 |
StandardRawColorTone | 0 |
StandardRawContrast | 0 |
StandardRawHighlight | 0 |
StandardRawHighlightPoint | 0 |
StandardRawLinear | No |
StandardRawSaturation | 0 |
StandardRawShadow | 0 |
StandardRawShadowPoint | 0 |
StandardRawSharpness | 0 |
StandardUnsharpMaskFineness | 7 |
StandardUnsharpMaskStrength | 0 |
StandardUnsharpMaskThreshold | 1 |
TargetAperture | 3.6 |
TargetExposureTime | 1/30 |
Tint | -22 |
ToneCurve | 0, 0, 255, 255 |
ToneCurveActive | Yes |
ToneCurveBlue | 0, 0, 255, 255 |
ToneCurveGreen | 0, 0, 255, 255 |
ToneCurveInterpolation | Curve |
ToneCurveMode | RGB |
ToneCurveName | Linear |
ToneCurveName2012 | Linear |
ToneCurveProperty | Shot Settings |
ToneCurvePV2012 | 0, 0, 255, 255 |
ToneCurvePV2012Blue | 0, 0, 255, 255 |
ToneCurvePV2012Green | 0, 0, 255, 255 |
ToneCurvePV2012Red | 0, 0, 255, 255 |
ToneCurveRed | 0, 0, 255, 255 |
ToneMapStrength | 0 |
UnsharpMask | Off |
UserComment | |
Version | 9.10 |
Vibrance | +39 |
VignetteAmount | 0 |
VRDVersion | 3.10.1 |
WBAdjColorTemp | 5200 |
WBAdjRGGBLevels | 0 0 0 0 |
WBFineTuneActive | No |
WBFineTuneSaturation | 0 |
WBFineTuneTone | 0 |
WhiteBalance (1) | Auto |
WhiteBalance (2) | Custom |
WhiteBalance | Unknown (-1) |
WhiteBalanceAdj | Shot Settings |
Whites2012 | 0 |
WorkColorSpace | sRGB |
ZoomSourceWidth | 0 |
ZoomTargetWidth | 0 |