Felt | Verdi |
AlreadyApplied | True |
Aperture | 1.0 |
ApertureValue | 1.0 |
Artist | Arild Thingvoll |
AutoLateralCA | 0 |
AutoWhiteVersion | 134348800 |
BitsPerSample | 8 |
Blacks2012 | 0 |
BlueHue | 0 |
BlueSaturation | 0 |
BrightnessValue | -7.120000183 |
By-line | Arild Thingvoll |
CameraProfile | Embedded |
CircleOfConfusion | 0.020 mm |
Clarity2012 | +19 |
ColorComponents | 3 |
ColorNoiseReduction | 23 |
ColorNoiseReductionDetail | 62 |
ColorNoiseReductionSmoothness | 71 |
Contrast2012 | 0 |
ConvertToGrayscale | False |
Copyright | © Arild Thingvoll |
CopyrightNotice | © Arild Thingvoll |
CreateDate | 2016:04:04 06:23:41 |
Creator | Arild Thingvoll |
CreatorAddress | Ligtvor |
CreatorCity | Vik i Sogn |
CreatorCountry | Norway |
CreatorPostalCode | 6893 |
CreatorRegion | Sogn og Fjordane |
CreatorTool | Capture One Windows |
CreatorWorkEmail | athingvoll@gmail.com |
CreatorWorkTelephone | 91584513 |
CustomRendered | Normal |
DateCreated (1) | 2016:04:04 |
DateCreated | 2016:04:04 06:23:41 |
DateTimeOriginal | 2016:04:04 06:23:42 |
DefringeGreenAmount | 0 |
DefringeGreenHueHi | 60 |
DefringeGreenHueLo | 40 |
DefringePurpleAmount | 0 |
DefringePurpleHueHi | 70 |
DefringePurpleHueLo | 30 |
Dehaze | 0 |
ExifImageHeight | 831 |
ExifImageWidth | 1228 |
Exposure2012 | 0.00 |
ExposureCompensation | -1.33 |
ExposureMode | Auto bracket |
ExposureProgram | Manual |
ExposureTime | 1/50 |
Flash | Off, Did not fire |
FNumber | 1.0 |
FocalLength | 12.0 mm |
FocalLength35efl | 12.0 mm (35 mm equivalent: 18.0 mm) |
FocalLengthIn35mmFormat | 18 mm |
FOV | 90.0 deg |
FujiRatingAlreadyApplied | True |
GrainAmount | 0 |
GreenHue | 0 |
GreenSaturation | 0 |
HasCrop | False |
HasSettings | True |
Highlights2012 | 0 |
HueAdjustmentAqua | 0 |
HueAdjustmentBlue | 0 |
HueAdjustmentGreen | 0 |
HueAdjustmentMagenta | 0 |
HueAdjustmentOrange | 0 |
HueAdjustmentPurple | 0 |
HueAdjustmentRed | 0 |
HueAdjustmentYellow | 0 |
HyperfocalDistance | 7.19 m |
ImageHeight | 831 |
ImageSize | 1228x831 |
ImageWidth | 1228 |
IncrementalTemperature | 0 |
IncrementalTint | 0 |
ISO | 3200 |
Lens | -- mm f/-- |
LensManualDistortionAmount | 0 |
LensModel | -- mm f/-- |
LensProfileEnable | 0 |
LensProfileSetup | LensDefaults |
LightSource | Unknown |
LightValue | 0.6 |
LuminanceAdjustmentAqua | 0 |
LuminanceAdjustmentBlue | 0 |
LuminanceAdjustmentGreen | 0 |
LuminanceAdjustmentMagenta | 0 |
LuminanceAdjustmentOrange | 0 |
LuminanceAdjustmentPurple | 0 |
LuminanceAdjustmentRed | 0 |
LuminanceAdjustmentYellow | 0 |
LuminanceNoiseReductionContrast | 23 |
LuminanceNoiseReductionDetail | 58 |
LuminanceSmoothing | 69 |
Make | FUJIFILM |
Megapixels | 1.0 |
MeteringMode | Multi-segment |
Model | X-T1 |
ModifyDate (1) | 2023:10:28 22:44:20+02:00 |
ModifyDate | 2023:10:28 22:44:20 |
ParametricDarks | 0 |
ParametricHighlights | -3 |
ParametricHighlightSplit | 75 |
ParametricLights | +20 |
ParametricMidtoneSplit | 50 |
ParametricShadows | 0 |
ParametricShadowSplit | 25 |
PerspectiveAspect | 0 |
PerspectiveHorizontal | 0 |
PerspectiveRotate | 0.0 |
PerspectiveScale | 100 |
PerspectiveUpright | 0 |
PerspectiveVertical | 0 |
PostCropVignetteAmount | 0 |
ProcessVersion | 6.7 |
ProfileDescription | Adobe RGB (1998) |
RedHue | 0 |
RedSaturation | 0 |
Rights | © Arild Thingvoll |
Saturation | 0 |
SaturationAdjustmentAqua | 0 |
SaturationAdjustmentBlue | 0 |
SaturationAdjustmentGreen | 0 |
SaturationAdjustmentMagenta | 0 |
SaturationAdjustmentOrange | 0 |
SaturationAdjustmentPurple | 0 |
SaturationAdjustmentRed | 0 |
SaturationAdjustmentYellow | 0 |
ScaleFactor35efl | 1.5 |
SceneCaptureType | Standard |
SceneType | Directly photographed |
SensingMethod | One-chip color area |
Shadows2012 | 0 |
ShadowTint | 0 |
SharpenDetail | 25 |
SharpenEdgeMasking | 0 |
SharpenRadius | +1.0 |
Sharpness (1) | 0 |
Sharpness | Normal |
ShutterSpeed | 1/50 |
ShutterSpeedValue | 1/50 |
Software | Capture One Windows |
SplitToningBalance | 0 |
SplitToningHighlightHue | 0 |
SplitToningHighlightSaturation | 0 |
SplitToningShadowHue | 0 |
SplitToningShadowSaturation | 0 |
SubjectDistanceRange | Unknown |
ToneCurve | 0, 0, 255, 255 |
ToneCurveBlue | 0, 0, 255, 255 |
ToneCurveGreen | 0, 0, 255, 255 |
ToneCurveName | Linear |
ToneCurveName2012 | Linear |
ToneCurvePV2012 | 0, 0, 255, 255 |
ToneCurvePV2012Blue | 0, 0, 255, 255 |
ToneCurvePV2012Green | 0, 0, 255, 255 |
ToneCurvePV2012Red | 0, 0, 255, 255 |
ToneCurveRed | 0, 0, 255, 255 |
ToneMapStrength | 0 |
Version | 9.5 |
Vibrance | 0 |
VignetteAmount | 0 |
WhiteBalance (1) | As Shot |
WhiteBalance | Auto |
Whites2012 | 0 |