Felt | Verdi |
AlreadyApplied | True |
Aperture | 9.0 |
ApertureValue | 9.0 |
AutoLateralCA | 1 |
BitsPerSample | 8 |
Blacks2012 | +25 |
BlueHue | -12 |
BlueSaturation | -30 |
BrightnessValue | 5.384375 |
CameraProfile | Embedded |
CircleOfConfusion | 0.020 mm |
Clarity2012 | 0 |
ColorComponents | 3 |
ColorGradeBlending | 100 |
ColorGradeGlobalHue | 0 |
ColorGradeGlobalLum | 0 |
ColorGradeGlobalSat | 0 |
ColorGradeHighlightLum | 0 |
ColorGradeMidtoneHue | 0 |
ColorGradeMidtoneLum | 0 |
ColorGradeMidtoneSat | 0 |
ColorGradeShadowLum | 0 |
ColorNoiseReduction | 25 |
ColorNoiseReductionDetail | 0 |
ColorNoiseReductionSmoothness | 16 |
ColorSpace | sRGB |
ColorTransform | YCbCr |
Contrast | Normal |
Contrast2012 | +17 |
ConvertToGrayscale | False |
CreateDate | 2024:03:03 16:03:55 |
CreatorTool | NEX-5N v1.02 |
CropAngle | 0 |
CropBottom | 1 |
CropConstrainToWarp | 0 |
CropLeft | 0 |
CropRight | 1 |
CropTop | 0 |
CurveRefineSaturation | 100 |
CustomRendered | Normal |
DateCreated (1) | 2024:03:03 16:03:55 |
DateCreated | 2024:03:03 |
DateTimeOriginal | 2024:03:03 16:03:55 |
DefringeGreenAmount | 3 |
DefringeGreenHueHi | 68 |
DefringeGreenHueLo | 30 |
DefringePurpleAmount | 7 |
DefringePurpleHueHi | 76 |
DefringePurpleHueLo | 24 |
Dehaze | 0 |
Exposure2012 | -0.36 |
ExposureCompensation | 0 |
ExposureMode | Auto |
ExposureProgram | Aperture-priority AE |
ExposureTime | 1/40 |
Flash | Off, Did not fire |
FNumber | 9.0 |
FocalLength | 24.0 mm |
FocalLength35efl | 24.0 mm (35 mm equivalent: 36.0 mm) |
FocalLengthIn35mmFormat | 36 mm |
Format | image/jpeg |
FOV | 53.1 deg |
GrainAmount | 0 |
GreenHue | +46 |
GreenSaturation | -15 |
HasCrop | False |
HasSettings | True |
HDREditMode | 0 |
Highlights2012 | -72 |
HueAdjustmentAqua | +5 |
HueAdjustmentBlue | -4 |
HueAdjustmentGreen | +1 |
HueAdjustmentMagenta | +25 |
HueAdjustmentOrange | +11 |
HueAdjustmentPurple | +10 |
HueAdjustmentRed | +8 |
HueAdjustmentYellow | +1 |
HyperfocalDistance | 3.20 m |
ImageHeight | 3264 |
ImageSize | 4912x3264 |
ImageWidth | 4912 |
IncrementalTemperature | +21 |
IncrementalTint | -31 |
ISO | 200 |
LateralChromaticAberrationCorrectionAlreadyApplied | True |
Lens | E 18-55mm F3.5-5.6 OSS |
LensInfo | 18-55mm f/3.5-5.6 |
LensManualDistortionAmount | 0 |
LensModel | E 18-55mm F3.5-5.6 OSS |
LensProfileEnable | 0 |
LightSource | Unknown |
LightValue | 10.7 |
LuminanceAdjustmentAqua | 0 |
LuminanceAdjustmentBlue | -10 |
LuminanceAdjustmentGreen | 0 |
LuminanceAdjustmentMagenta | 0 |
LuminanceAdjustmentOrange | -1 |
LuminanceAdjustmentPurple | 0 |
LuminanceAdjustmentRed | -20 |
LuminanceAdjustmentYellow | -5 |
LuminanceNoiseReductionContrast | 0 |
LuminanceNoiseReductionDetail | 50 |
LuminanceSmoothing | 10 |
Make | SONY |
MaxApertureValue | 4.0 |
Megapixels | 16.0 |
MeteringMode | Multi-segment |
Model | NEX-5N |
ModifyDate (1) | 2024:03:03 17:23:59+01:00 |
ModifyDate | 2024:03:03 17:23:59 |
OverrideLookVignette | False |
ParametricDarks | 0 |
ParametricHighlights | 0 |
ParametricHighlightSplit | 63 |
ParametricLights | -13 |
ParametricMidtoneSplit | 44 |
ParametricShadows | -16 |
ParametricShadowSplit | 12 |
PerspectiveAspect | 0 |
PerspectiveHorizontal | 0 |
PerspectiveRotate | 0.0 |
PerspectiveScale | 100 |
PerspectiveUpright | 0 |
PerspectiveVertical | 0 |
PerspectiveX | 0.00 |
PerspectiveY | 0.00 |
PointColors | -1.000000, -1.000000, -1.000000, -1.000000, -1.000000, -1.000000, -1.000000, -1.000000, -1.000000, -1.000000, -1.000000, -1.000000, -1.000000, -1.000000, -1.000000, -1.000000, -1.000000, -1.000000, -1.000000 |
PostCropVignetteAmount | 0 |
ProcessVersion | 15.4 |
ProfileDescription | sRGB IEC61966-2.1 |
RecommendedExposureIndex | 200 |
RedHue | +13 |
RedSaturation | -13 |
Saturation (1) | 0 |
Saturation | High |
SaturationAdjustmentAqua | -10 |
SaturationAdjustmentBlue | -30 |
SaturationAdjustmentGreen | -52 |
SaturationAdjustmentMagenta | -20 |
SaturationAdjustmentOrange | -3 |
SaturationAdjustmentPurple | -21 |
SaturationAdjustmentRed | -20 |
SaturationAdjustmentYellow | -63 |
ScaleFactor35efl | 1.5 |
SceneCaptureType | Standard |
SceneType | Directly photographed |
SensitivityType | Recommended Exposure Index |
Shadows2012 | +85 |
ShadowTint | +9 |
Sharpness (1) | 0 |
Sharpness | Normal |
ShutterSpeed | 1/40 |
ShutterSpeedValue | 1/40 |
Software | NEX-5N v1.02 |
SplitToningBalance | 0 |
SplitToningHighlightHue | 39 |
SplitToningHighlightSaturation | 9 |
SplitToningShadowHue | 34 |
SplitToningShadowSaturation | 18 |
Texture | 0 |
ToneCurveName2012 | Custom |
ToneCurvePV2012 | 0, 14, 27, 35, 96, 96, 178, 162, 255, 199 |
ToneCurvePV2012Blue | 0, 0, 38, 18, 79, 64, 115, 122, 179, 200, 255, 255 |
ToneCurvePV2012Green | 0, 0, 46, 20, 86, 72, 115, 124, 179, 200, 255, 255 |
ToneCurvePV2012Red | 0, 0, 47, 19, 82, 61, 114, 122, 176, 193, 255, 255 |
Version | 16.2 |
Vibrance | -11 |
VignetteAmount | 0 |
WhiteBalance (1) | Custom |
WhiteBalance | Auto |
Whites2012 | -57 |