Felt | Verdi |
AlreadyApplied | True |
Aperture | 2.8 |
ApertureValue | 2.8 |
BitsPerSample | 8 |
BlueHue | 0 |
BlueSaturation | 0 |
Brightness | +7 |
CameraProfile | Embedded |
ChromaticAberrationB | 0 |
ChromaticAberrationR | 0 |
CircleOfConfusion | 0.024 mm |
Clarity | 20 |
ColorComponents | 1 |
ColorMode | RGB |
ColorSpace | sRGB |
Contrast | +23 |
ConvertToGrayscale | True |
CopyrightFlag | False |
CreateDate (1) | 2008:04:08 23:27:11+02:00 |
CreateDate | 2008:04:05 13:57:56 |
CreatorTool | Adobe Photoshop Elements 5.0 (20060914.r.77) Windows |
CropAngle | 0 |
CropBottom | 0.982036 |
CropHeight | 2161 |
CropLeft | 0.041916 |
CropRight | 0.894211 |
CropTop | 0.056886 |
CropUnit | pixels |
CropWidth | 2986 |
CustomRendered | Normal |
DateTimeDigitized | 2008:04:05 13:57:56+02:00 |
DateTimeOriginal (1) | 2008:04:05 13:57:56+02:00 |
DateTimeOriginal | 2008:04:05 13:57:56 |
Defringe | 0 |
ExifImageHeight | 768 |
ExifImageWidth | 1061 |
Exposure | +0.29 |
ExposureCompensation | 0 |
ExposureMode | Auto |
ExposureProgram | Aperture-priority AE |
ExposureTime | 1/320 |
FillLight | 11 |
Firmware | 1.1.2 |
Flash | Off, Did not fire |
FlashCompensation | 0 |
FlashFired | False |
FlashFunction | False |
FlashMode | Off |
FlashRedEyeMode | False |
FlashReturn | No return detection |
FNumber | 2.8 |
FocalLength | 70.0 mm |
FocalLength35efl | 70.0 mm (35 mm equivalent: 87.7 mm) |
Format | image/jpeg |
FOV | 23.2 deg |
GrayMixerAqua | -12 |
GrayMixerBlue | -7 |
GrayMixerGreen | -7 |
GrayMixerMagenta | +5 |
GrayMixerOrange | -7 |
GrayMixerPurple | -40 |
GrayMixerRed | -33 |
GrayMixerYellow | -5 |
GreenHue | 0 |
GreenSaturation | 0 |
HasCrop | True |
HasSettings | True |
HighlightRecovery | 0 |
HyperfocalDistance | 72.99 m |
ICCProfileName | sRGB IEC61966-2.1 |
ImageHeight (1) | 2161 |
ImageHeight | 768 |
ImageNumber | 42010 |
ImageSize | 1061x768 |
ImageWidth (1) | 2986 |
ImageWidth | 1061 |
IncrementalTemperature | 0 |
IncrementalTint | +5 |
ISO | 800 |
Keywords | 2008, HiNe, nesna, svømmestevne |
Lens | EF70-200mm f/2.8L IS USM |
LensInfo | 70-200mm f/? |
LightValue | 8.3 |
LuminanceSmoothing | 0 |
Make | Canon |
MaxApertureValue | 2.8 |
Megapixels | 0.815 |
MeteringMode | Multi-segment |
Model | Canon EOS-1D Mark II N |
ModifyDate (1) | 2008:04:08 23:27:11+02:00 |
ModifyDate | 2008:04:08 23:27:11 |
Orientation | Horizontal (normal) |
ParametricDarks | 0 |
ParametricHighlights | +4 |
ParametricHighlightSplit | 75 |
ParametricLights | 0 |
ParametricMidtoneSplit | 50 |
ParametricShadows | -16 |
ParametricShadowSplit | 25 |
ProfileDescription | sRGB IEC61966-2.1 |
RedHue | 0 |
RedSaturation | 0 |
ScaleFactor35efl | 1.3 |
SceneCaptureType | Standard |
SerialNumber | 405175 |
Shadows | 1 |
ShadowTint | 0 |
SharpenDetail | 25 |
SharpenEdgeMasking | 4 |
SharpenRadius | +1.0 |
Sharpness | 14 |
ShutterSpeed | 1/320 |
ShutterSpeedValue | 1/320 |
Software | Adobe Photoshop Elements 5.0 (20060914.r.77) Windows |
SplitToningBalance | 0 |
SplitToningHighlightHue | 0 |
SplitToningHighlightSaturation | 0 |
SplitToningShadowHue | 0 |
SplitToningShadowSaturation | 0 |
Subject | 2008, HiNe, nesna, svømmestevne |
ToneCurve | 0, 0, 255, 255 |
ToneCurveName | Linear |
URL_List | |
Version | 1.0 |
VignetteAmount | 0 |
WhiteBalance (2) | Custom |
WhiteBalance | Auto |