Felt | Verdi |
AlreadyApplied | True |
Aperture | 6.7 |
ApertureValue | 6.7 |
Artist | Nanna Egidius |
BitsPerSample | 8 |
BlueHue | 0 |
BlueSaturation | 0 |
Brightness | 0 |
By-line | Nanna Egidius |
CameraProfile | ACR 2.4 |
ChromaticAberrationB | 0 |
ChromaticAberrationR | 0 |
CircleOfConfusion | 0.020 mm |
Clarity | 18 |
ColorComponents | 3 |
ColorMode | RGB |
ColorNoiseReduction | 0 |
ColorSpace | sRGB |
ColorTemperature | 6850 |
Contrast (2) | +4 |
Contrast | Normal |
ConvertToGrayscale | False |
Copyright | Nanna Egidius |
CopyrightFlag | True |
CopyrightNotice | Nanna Egidius |
CreateDate (1) | 2008:04:20 13:51:42+02:00 |
CreateDate | 2008:04:18 19:25:07 |
Creator | Nanna Egidius |
CreatorAddress | Kaldor |
CreatorCity | Øyer |
CreatorCountry | Norway |
CreatorPostalCode | 2636 |
CreatorTool | Adobe Photoshop CS3 Windows |
CreatorWorkEmail | nanna@digitalverkstedet.com |
CreatorWorkTelephone | +47 90057958 |
CreatorWorkURL | www.digitalverkstedet.com |
CropAngle | 0 |
CropBottom | 0.740635 |
CropHeight | 1341 |
CropLeft | 0.042514 |
CropRight | 0.559854 |
CropTop | 0.223295 |
CropUnit | pixels |
CropWidth | 2003 |
CustomRendered | Normal |
DateTimeDigitized | 2008:04:18 19:25:07+02:00 |
DateTimeOriginal (1) | 2008:04:18 19:25:07+02:00 |
DateTimeOriginal | 2008:04:18 19:25:07 |
Defringe | 0 |
DerivedFrom | |
ExifImageHeight | 603 |
ExifImageWidth | 900 |
Exposure | +1.05 |
ExposureCompensation | 0 |
ExposureMode | Auto |
ExposureProgram | Program AE |
ExposureTime | 1/250 |
FillLight | 43 |
Flash | Off, Did not fire |
FlashFired | False |
FlashFunction | False |
FlashMode | Off |
FlashRedEyeMode | False |
FlashReturn | No return detection |
FNumber | 6.7 |
FocalLength | 200.0 mm |
FocalLength35efl | 200.0 mm (35 mm equivalent: 300.0 mm) |
FocalLengthIn35mmFormat | 300 mm |
Format | image/jpeg |
FOV | 6.9 deg |
GreenHue | 0 |
GreenSaturation | 0 |
HasCrop | True |
HasSettings | True |
HighlightRecovery | 30 |
HueAdjustmentAqua | 0 |
HueAdjustmentBlue | 0 |
HueAdjustmentGreen | 0 |
HueAdjustmentMagenta | 0 |
HueAdjustmentOrange | 0 |
HueAdjustmentPurple | 0 |
HueAdjustmentRed | 0 |
HueAdjustmentYellow | 0 |
HyperfocalDistance | 298.05 m |
ICCProfileName | sRGB IEC61966-2.1 |
ImageHeight (1) | 1341 |
ImageHeight | 603 |
ImageSize | 900x603 |
ImageWidth (1) | 2003 |
ImageWidth | 900 |
ISO | 100 |
Lens | SIGMA |
LensID (1) | 3 255 |
LensID | Sigma 18-200mm F3.5-6.3 DC or Sigma DL Zoom 75-300mm F4-5.6 or Sigma 70-300mm F4-5.6 Macro or Sigma 55-200mm F4-5.6 DC |
LightValue | 13.5 |
LuminanceAdjustmentAqua | 0 |
LuminanceAdjustmentBlue | 0 |
LuminanceAdjustmentGreen | 0 |
LuminanceAdjustmentMagenta | 0 |
LuminanceAdjustmentOrange | 0 |
LuminanceAdjustmentPurple | 0 |
LuminanceAdjustmentRed | 0 |
LuminanceAdjustmentYellow | 0 |
LuminanceSmoothing | 0 |
Make | PENTAX Corporation |
Marked | True |
Megapixels | 0.543 |
MeteringMode | Multi-segment |
Model | PENTAX K10D |
ModifyDate (1) | 2008:04:20 13:51:42+02:00 |
ModifyDate | 2008:04:20 13:51:42 |
Orientation | Horizontal (normal) |
ParametricDarks | 0 |
ParametricHighlights | 0 |
ParametricHighlightSplit | 75 |
ParametricLights | 0 |
ParametricMidtoneSplit | 50 |
ParametricShadows | 0 |
ParametricShadowSplit | 25 |
ProfileDescription | sRGB IEC61966-2.1 |
RedHue | 0 |
RedSaturation | 0 |
Rights | Nanna Egidius |
Saturation (2) | 0 |
Saturation | Normal |
SaturationAdjustmentAqua | 0 |
SaturationAdjustmentBlue | 0 |
SaturationAdjustmentGreen | 0 |
SaturationAdjustmentMagenta | 0 |
SaturationAdjustmentOrange | 0 |
SaturationAdjustmentPurple | 0 |
SaturationAdjustmentRed | 0 |
SaturationAdjustmentYellow | 0 |
ScaleFactor35efl | 1.5 |
SceneCaptureType | Standard |
SensingMethod | One-chip color area |
Shadows | 49 |
ShadowTint | 0 |
SharpenDetail | 50 |
SharpenEdgeMasking | 0 |
SharpenRadius | +1.0 |
Sharpness (2) | 0 |
Sharpness | Normal |
ShutterSpeed | 1/250 |
ShutterSpeedValue | 1/250 |
Software | Adobe Photoshop CS3 Windows |
SplitToningBalance | 0 |
SplitToningHighlightHue | 0 |
SplitToningHighlightSaturation | 0 |
SplitToningShadowHue | 0 |
SplitToningShadowSaturation | 0 |
SubjectDistanceRange | Distant |
Tint | +76 |
ToneCurve | 0, 0, 32, 22, 64, 56, 128, 128, 192, 196, 255, 255 |
ToneCurveName | Medium Contrast |
URL_List | |
Version | 4.4.1 |
Vibrance | +26 |
VignetteAmount | 0 |
WhiteBalance (2) | As Shot |
WhiteBalance | Auto |