Felt | Verdi |
Aperture | 5.6 |
ApertureValue | 5.6 |
Artist | Strøm Trond J. |
BitsPerSample | 8 |
BlueHue | 0 |
BlueSaturation | 0 |
Brightness | +50 |
By-line | © (C) trondjs@yahoo.com |
CameraProfile | ACR 4.4 |
Caption-Abstract | © (C) trondjs@yahoo.com, 2009. Copyright, All rights reserved. No use, archiving, or publishing in any form of this image without my written consent. |
ChromaticAberrationB | 0 |
ChromaticAberrationR | 0 |
CircleOfConfusion | 0.030 mm |
Clarity | +14 |
ColorComponents | 3 |
ColorMode | RGB |
ColorNoiseReduction | 25 |
ColorSpace (1) | Unknown (-1) |
ColorSpace | Uncalibrated |
ColorTemperature | 5950 |
Contrast | +25 |
ConvertToGrayscale | False |
CopyrightFlag | False |
CreateDate (1) | 2009:03:14 01:25:11+01:00 |
CreateDate | 2009:02:27 16:00:25 |
Creator | © (C) trondjs@yahoo.com |
CreatorTool | FotoWare FotoStation |
Credit | © (C) trondjs@yahoo.com |
CustomRendered | Normal |
DateTimeDigitized | 2009:02:27 16:00:25:00 |
DateTimeOriginal (1) | 2009:02:27 16:00:25:00 |
DateTimeOriginal | 2009:02:27 16:00:25 |
Defringe | 0 |
Description | © (C) trondjs@yahoo.com, 2009. Copyright, All rights reserved. No use, archiving, or publishing in any form of this image without my written consent. |
DocumentHistory | E=TXT D=2009-02-28 T=01:28:24 U=RETRSTRO
E=DRP D=2009-03-14 T=01:28:17 U=RETRSTRO V=Filnavnslipp |
E=LNC D=2009-03-14 T=01:07:35 U=RETRSTRO
E=TXT D=2009-02-28 T=01:29:51 U=RETRSTRO
E=TXT D=2009-03-14 T=01:27:48 U=RETRSTRO
ExifImageHeight | 800 |
ExifImageWidth | 533 |
Exposure | 0.00 |
ExposureCompensation | 0 |
ExposureMode | Auto |
ExposureProgram | Aperture-priority AE |
ExposureTime | 1/80 |
FillLight | 21 |
Firmware | 1.1.1 |
Flash | Off, Did not fire |
FlashCompensation | 0 |
FlashFired | False |
FlashFunction | False |
FlashMode | Off |
FlashRedEyeMode | False |
FlashReturn | No return detection |
FNumber | 5.6 |
FocalLength | 24.0 mm |
FocalLength35efl | 24.0 mm (35 mm equivalent: 24.0 mm) |
Format | image/jpeg |
FOV | 73.6 deg |
GreenHue | 0 |
GreenSaturation | 0 |
HasSettings | True |
HighlightRecovery | 83 |
HueAdjustmentAqua | 0 |
HueAdjustmentBlue | 0 |
HueAdjustmentGreen | 0 |
HueAdjustmentMagenta | 0 |
HueAdjustmentOrange | 0 |
HueAdjustmentPurple | 0 |
HueAdjustmentRed | 0 |
HueAdjustmentYellow | 0 |
HyperfocalDistance | 3.43 m |
ICCProfileName | ColorMatch RGB |
ImageHeight | 800 |
ImageNumber | 3 |
ImageSize | 533x800 |
ImageWidth | 533 |
Instructions | ok |
ISO | 100 |
Lens | 24.0-60.0 mm |
LensInfo | 24-60mm f/? |
LightValue | 11.3 |
LuminanceAdjustmentAqua | 0 |
LuminanceAdjustmentBlue | 0 |
LuminanceAdjustmentGreen | 0 |
LuminanceAdjustmentMagenta | 0 |
LuminanceAdjustmentOrange | 0 |
LuminanceAdjustmentPurple | 0 |
LuminanceAdjustmentRed | 0 |
LuminanceAdjustmentYellow | 0 |
LuminanceSmoothing | 0 |
Make | Canon |
MaxApertureValue | 2.8 |
Megapixels | 0.426 |
MeteringMode | Unknown |
Model | Canon EOS 5D |
ModifyDate (1) | 2009:03:14 01:25:11+01:00 |
ModifyDate | 2009:03:14 01:25:11 |
ObjectName | Oslo Plaza Hotel |
Orientation | Horizontal (normal) |
OriginalTransmissionReference | TJS-20090227-2 |
OriginatingProgram | FotoWare FotoStation |
ParametricDarks | 0 |
ParametricHighlights | 0 |
ParametricHighlightSplit | 75 |
ParametricLights | 0 |
ParametricMidtoneSplit | 50 |
ParametricShadows | 0 |
ParametricShadowSplit | 25 |
PostCropVignetteAmount | 0 |
ProfileDescription | ColorMatch RGB |
Rating | 0 |
RawFileName | _MG_8300.CR2 |
RedHue | 0 |
RedSaturation | 0 |
Saturation | +17 |
SaturationAdjustmentAqua | 0 |
SaturationAdjustmentBlue | 0 |
SaturationAdjustmentGreen | 0 |
SaturationAdjustmentMagenta | 0 |
SaturationAdjustmentOrange | 0 |
SaturationAdjustmentPurple | 0 |
SaturationAdjustmentRed | 0 |
SaturationAdjustmentYellow | 0 |
ScaleFactor35efl | 1.0 |
SceneCaptureType | Standard |
SerialNumber | 2931200424 |
Shadows | 10 |
ShadowTint | 0 |
SharpenDetail | 25 |
SharpenEdgeMasking | 0 |
SharpenRadius | +1.0 |
Sharpness | 25 |
ShutterSpeed | 1/80 |
ShutterSpeedValue | 1/80 |
SidecarForExtension | CR2 |
Software | Adobe Photoshop CS3 Windows |
SpecialInstructions | ok |
SplitToningBalance | 0 |
SplitToningHighlightHue | 0 |
SplitToningHighlightSaturation | 0 |
SplitToningShadowHue | 0 |
SplitToningShadowSaturation | 0 |
Tint | +31 |
Title | Oslo Plaza Hotel |
ToneCurve | 0, 0, 32, 22, 64, 56, 128, 128, 192, 196, 255, 255 |
ToneCurveName | Medium Contrast |
TransmissionReference | TJS-20090227-2 |
URL_List | |
UserComment | |
Version | 4.6 |
Vibrance | +15 |
VignetteAmount | -30 |
VignetteMidpoint | 50 |
WhiteBalance (2) | As Shot |
WhiteBalance | Auto |
XMPFileStamps | 2009:02:28 01:29:25+01:00, 2009:02:28 01:29:51+01:00, 2009:03:14 01:07:35+01:00, 2009:03:14 01:28:17+01:00 |