Felt | Verdi |
AlreadyApplied | True |
Aperture | 4.5 |
ApertureValue | 4.5 |
BitsPerSample | 8 |
BlueHue | 0 |
BlueSaturation | 0 |
Brightness | +50 |
By-line | Svein Erik Sloreid |
CameraProfile | Adobe Standard |
ChromaticAberrationB | 0 |
ChromaticAberrationR | 0 |
CircleOfConfusion | 0.020 mm |
Clarity | +60 |
ColorComponents | 3 |
ColorNoiseReduction | 25 |
ColorTemperature | 5250 |
Contrast (2) | +25 |
Contrast | High |
ConvertToGrayscale | False |
Copyright | Svein Erik Sloreid |
CopyrightFlag | True |
CopyrightNotice | Svein Erik Sloreid |
CreateDate (1) | 2010:01:02 12:14:24+01:00 |
CreateDate | 2010:01:02 12:14:24 |
Creator | Svein Erik Sloreid |
CreatorTool | Adobe Photoshop Lightroom |
CreatorWorkEmail | svein.sloreid@nina.no |
CropAngle | 0 |
CropBottom | 0.948235 |
CropHeight | 657 |
CropLeft | 0.08125 |
CropRight | 0.946875 |
CropTop | 0.047059 |
CropUnit | pixels |
CropWidth | 950 |
CustomRendered | Normal |
DateTimeDigitized | 2010:01:02 12:14:24+01:00 |
DateTimeOriginal (1) | 2010:01:02 12:14:24+01:00 |
DateTimeOriginal | 2010:01:02 12:14:24 |
Defringe | 0 |
ExifImageHeight | 657 |
ExifImageWidth | 950 |
Exposure | +0.42 |
ExposureCompensation | +1 |
ExposureMode | Manual |
ExposureProgram | Shutter speed priority AE |
ExposureTime | 1/250 |
FillLight | 8 |
Flash | Off, Did not fire |
FlashFired | False |
FlashFunction | False |
FlashMode | Off |
FlashRedEyeMode | False |
FlashReturn | No return detection |
FNumber | 4.5 |
FocalLength | 220.0 mm |
FocalLength35efl | 220.0 mm (35 mm equivalent: 330.0 mm) |
FocalLengthIn35mmFormat | 330 mm |
FOV | 6.2 deg |
GreenHue | 0 |
GreenSaturation | 0 |
HasCrop | True |
HasSettings | True |
HighlightRecovery | 0 |
HueAdjustmentAqua | 0 |
HueAdjustmentBlue | 0 |
HueAdjustmentGreen | 0 |
HueAdjustmentMagenta | 0 |
HueAdjustmentOrange | 0 |
HueAdjustmentPurple | 0 |
HueAdjustmentRed | 0 |
HueAdjustmentYellow | 0 |
HyperfocalDistance | 536.95 m |
ImageHeight | 657 |
ImageSize | 950x657 |
ImageWidth | 950 |
ISO | 400 |
Lens | Sigma Lens |
LensID (1) | 3 46 |
LensID | Sigma EX APO 100-300mm F4 IF |
LightValue | 10.3 |
LuminanceAdjustmentAqua | 0 |
LuminanceAdjustmentBlue | 0 |
LuminanceAdjustmentGreen | 0 |
LuminanceAdjustmentMagenta | 0 |
LuminanceAdjustmentOrange | 0 |
LuminanceAdjustmentPurple | 0 |
LuminanceAdjustmentRed | 0 |
LuminanceAdjustmentYellow | 0 |
LuminanceSmoothing | 0 |
Make | PENTAX |
Marked | True |
Megapixels | 0.624 |
MeteringMode | Multi-segment |
Model | PENTAX K20D |
ModifyDate (1) | 2010:01:05 21:48:24+01:00 |
ModifyDate | 2010:01:05 21:48:24 |
ParametricDarks | 0 |
ParametricHighlights | 0 |
ParametricHighlightSplit | 75 |
ParametricLights | 0 |
ParametricMidtoneSplit | 50 |
ParametricShadows | 0 |
ParametricShadowSplit | 25 |
PostCropVignetteAmount | 0 |
ProfileDescription | sRGB IEC61966-2.1 |
RedHue | 0 |
RedSaturation | 0 |
Rights | Svein Erik Sloreid |
Saturation (2) | +13 |
Saturation | Normal |
SaturationAdjustmentAqua | 0 |
SaturationAdjustmentBlue | 0 |
SaturationAdjustmentGreen | 0 |
SaturationAdjustmentMagenta | 0 |
SaturationAdjustmentOrange | 0 |
SaturationAdjustmentPurple | 0 |
SaturationAdjustmentRed | 0 |
SaturationAdjustmentYellow | 0 |
ScaleFactor35efl | 1.5 |
SceneCaptureType | Standard |
SensingMethod | One-chip color area |
Shadows | 5 |
ShadowTint | 0 |
SharpenDetail | 99 |
SharpenEdgeMasking | 48 |
SharpenRadius | +1.3 |
Sharpness (2) | 106 |
Sharpness | Hard |
ShutterSpeed | 1/250 |
ShutterSpeedValue | 1/250 |
Software | K20D Ver 1.03 |
SplitToningBalance | 0 |
SplitToningHighlightHue | 0 |
SplitToningHighlightSaturation | 0 |
SplitToningShadowHue | 0 |
SplitToningShadowSaturation | 0 |
SubjectDistanceRange | Distant |
Tint | -4 |
ToneCurve | 0, 0, 32, 22, 64, 56, 128, 128, 192, 196, 255, 255 |
ToneCurveName | Medium Contrast |
Version | 5.5 |
Vibrance | +15 |
VignetteAmount | 0 |
WhiteBalance (2) | As Shot |
WhiteBalance | Auto |