Felt | Verdi |
AlreadyApplied | True |
Aperture | 11.0 |
ApertureValue | 11.0 |
Artist | Ulf Rugumayo Amundsen |
BitsPerSample | 8 |
BlackClip | 0.651050 |
BlueHue | 0 |
BlueSaturation | 0 |
Brightness | +28 |
By-line | Ulf Rugumayo Amundsen |
CameraProfile | Embedded |
ChromaticAberrationB | 0 |
ChromaticAberrationR | 0 |
Clarity | +25 |
ColorComponents | 3 |
ColorMode | RGB |
ColorNoiseReduction | 0 |
ColorSaturation | 60.0 |
ColorSpace | Uncalibrated |
ColorTemperature | 0.0 |
Contrast | -2 |
ConvertToGrayscale | False |
Copyright | Rugumayo Amundsen Photos |
CopyrightNotice | Rugumayo Amundsen Photos |
CreateDate | 2010:04:02 15:19:31+02:00 |
Creator | Ulf Rugumayo Amundsen |
CreatorTool | Adobe Photoshop CS4 Macintosh |
CropAngle | -0.3 |
CropBottom | 0.990922 |
CropLeft | 0.003056 |
CropRight | 0.996944 |
CropTop | 0.009078 |
DateTimeOriginal (2) | 2010:04:02 15:19:31+02:00 |
DateTimeOriginal | 2010:04:02 15:19:31 |
Defringe | 0 |
ExifImageHeight | 732 |
ExifImageWidth | 1280 |
Exposure | 0.00 |
FillLight | 0 |
FNumber | 11.0 |
FocalLength | 29.0 mm |
FocalLength35efl | 29.0 mm |
Format | application/vnd.adobe.photoshop |
Gamma | 1.0 |
GreenHue | 0 |
GreenSaturation | 0 |
HasCrop | True |
HasSettings | True |
HierarchicalSubject | Asker, Kirke |
HighlightRecovery | 0 |
HighlightsSmoothing | 0.0 |
HueAdjustmentAqua | 0 |
HueAdjustmentBlue | 0 |
HueAdjustmentGreen | 0 |
HueAdjustmentMagenta | 0 |
HueAdjustmentOrange | 0 |
HueAdjustmentPurple | 0 |
HueAdjustmentRed | 0 |
HueAdjustmentYellow | 0 |
ICCProfileName | Adobe RGB (1998) |
ImageHeight | 732 |
ImageSize | 1280x732 |
ImageWidth | 1280 |
IncrementalTemperature | 0 |
IncrementalTint | 0 |
ISO | 100 |
Keywords | Asker, Kirke |
LuminanceAdjustmentAqua | 0 |
LuminanceAdjustmentBlue | 0 |
LuminanceAdjustmentGreen | 0 |
LuminanceAdjustmentMagenta | 0 |
LuminanceAdjustmentOrange | 0 |
LuminanceAdjustmentPurple | 0 |
LuminanceAdjustmentRed | 0 |
LuminanceAdjustmentYellow | 0 |
LuminanceSmoothing | 0 |
Luminosity | 0.2 |
Megapixels | 0.937 |
Method | Details Enhancer |
Microcontrast | 1.1 |
Microsmoothing | 2.0 |
Model | NIKON D700 |
ModifyDate (1) | 2010:04:09 17:20:07+02:00 |
ModifyDate | 2010:04:09 17:20:07 |
Orientation | Horizontal (normal) |
ParametricDarks | 0 |
ParametricHighlights | -38 |
ParametricHighlightSplit | 75 |
ParametricLights | -15 |
ParametricMidtoneSplit | 50 |
ParametricShadows | 0 |
ParametricShadowSplit | 25 |
PostCropVignetteAmount | -46 |
PostCropVignetteFeather | 50 |
PostCropVignetteMidpoint | 50 |
PostCropVignetteRoundness | 0 |
ProfileDescription | Adobe RGB (1998) |
Rating | 0 |
RawFileName | _DSC9176_77_78_79_80_81_82-Edit-2.psd |
RedHue | 0 |
RedSaturation | 0 |
Rights | Rugumayo Amundsen Photos |
Saturation | 0 |
SaturationAdjustmentAqua | 0 |
SaturationAdjustmentBlue | 0 |
SaturationAdjustmentGreen | 0 |
SaturationAdjustmentMagenta | 0 |
SaturationAdjustmentOrange | 0 |
SaturationAdjustmentPurple | 0 |
SaturationAdjustmentRed | 0 |
SaturationAdjustmentYellow | 0 |
SaturationHighlights | 0.0 |
SaturationShadows | 0.0 |
Shadows | 0 |
ShadowsClipping | 0.0 |
ShadowsSmoothing | 0.0 |
ShadowTint | 0 |
SharpenDetail | 25 |
SharpenEdgeMasking | 0 |
SharpenRadius | +1.0 |
Sharpness | 38 |
Smoothing | Medium |
SmoothingMode | Light |
Software | Adobe Photoshop CS4 Macintosh |
SplitToningBalance | 0 |
SplitToningHighlightHue | 0 |
SplitToningHighlightSaturation | 0 |
SplitToningShadowHue | 0 |
SplitToningShadowSaturation | 0 |
Strength | 100.0 |
Subject | Asker, Kirke |
ToneCurve | 0, 0, 255, 255 |
ToneCurveName | Linear |
URL_List | |
Version (2) | 3.2 |
Version | 5.0 |
Vibrance | 0 |
VignetteAmount | -29 |
VignetteMidpoint | 50 |
WhiteBalance | As Shot |
WhiteClip | 1.270650 |