Felt | Verdi |
AlreadyApplied | True |
Aperture | 8.0 |
ApertureValue | 8.0 |
Artist | Gisle Hannemyr |
BitsPerSample | 8 |
BlueHue | 0 |
BlueSaturation | 0 |
Brightness | +13 |
By-line | Gisle Hannemyr |
CameraProfile | Adobe Standard |
Caption-Abstract | 20 degrees below freezing. |
CFAPattern | [Red,Green][Green,Blue] |
ChromaticAberrationB | 0 |
ChromaticAberrationR | 0 |
CircleOfConfusion | 0.030 mm |
City | Porsgrunn |
Clarity | +30 |
ColorComponents | 3 |
ColorMode | RGB |
ColorNoiseReduction | 25 |
ColorSpace | sRGB |
ColorTemperature | 8900 |
Contrast (2) | +55 |
Contrast | Normal |
ConvertToGrayscale | False |
Copyright | Gisle Hannemyr |
CopyrightFlag | True |
CopyrightNotice | Gisle Hannemyr |
Country | Porsgrunn |
Country-PrimaryLocationCode | NO |
Country-PrimaryLocationName | Porsgrunn |
CountryCode | NO |
CreateDate (1) | 2010:12:24 14:45:22.58+01:00 |
CreateDate | 2010:12:24 14:45:22 |
Creator | Gisle Hannemyr |
CreatorTool | Ver.1.02 |
CreatorWorkEmail | gisle@gannemyr.no |
CreatorWorkTelephone | +47 90553659 |
CustomRendered | Normal |
DateTimeDigitized | 2010:12:24 14:45:22+01:00 |
DateTimeOriginal (1) | 2010:12:24 14:45:22+01:00 |
DateTimeOriginal | 2010:12:24 14:45:22 |
Defringe | 0 |
Description | 20 degrees below freezing. |
DigitalZoomRatio | 1 |
ExifImageHeight | 553 |
ExifImageWidth | 1024 |
Exposure | 0.00 |
ExposureCompensation | 0 |
ExposureMode | Auto |
ExposureProgram | Shutter speed priority AE |
ExposureTime | 1/320 |
FillLight | 42 |
Flash | No Flash |
FlashFired | False |
FlashFunction | False |
FlashMode | Unknown |
FlashRedEyeMode | False |
FlashReturn | No return detection |
FNumber | 8.0 |
FocalLength | 24.0 mm |
FocalLength35efl | 24.0 mm (35 mm equivalent: 24.0 mm) |
FocalLengthIn35mmFormat | 24 mm |
Format | image/jpeg |
FOV | 73.7 deg |
GainControl | Low gain up |
GPSLatitude (1) | 59 deg 8' 23.05" N |
GPSLatitude | 59 deg 8' 23.05" |
GPSLatitudeRef | North |
GPSLongitude (1) | 9 deg 38' 45.89" E |
GPSLongitude | 9 deg 38' 45.89" |
GPSLongitudeRef | East |
GPSPosition | 59 deg 8' 23.05", 9 deg 38' 45.89" |
GPSVersionID | 2.3.0.0 |
GreenHue | 0 |
GreenSaturation | 0 |
HasCrop | False |
HasSettings | True |
HighlightRecovery | 27 |
HueAdjustmentAqua | 0 |
HueAdjustmentBlue | 0 |
HueAdjustmentGreen | 0 |
HueAdjustmentMagenta | 0 |
HueAdjustmentOrange | 0 |
HueAdjustmentPurple | 0 |
HueAdjustmentRed | 0 |
HueAdjustmentYellow | 0 |
HyperfocalDistance | 2.40 m |
ICCProfileName | sRGB IEC61966-2.1 |
ImageDescription | 20 degrees below freezing. |
ImageHeight | 553 |
ImageNumber | 550 |
ImageSize | 1024x553 |
ImageWidth | 1024 |
ISO | 800 |
Lens | 24.0-135.0 mm f/3.5-5.6 |
LensInfo | 24-135mm f/3.5-5.6 |
LightSource | Unknown |
LightValue | 11.3 |
LuminanceAdjustmentAqua | 0 |
LuminanceAdjustmentBlue | 0 |
LuminanceAdjustmentGreen | 0 |
LuminanceAdjustmentMagenta | 0 |
LuminanceAdjustmentOrange | 0 |
LuminanceAdjustmentPurple | 0 |
LuminanceAdjustmentRed | 0 |
LuminanceAdjustmentYellow | 0 |
LuminanceSmoothing | 0 |
Make | NIKON CORPORATION |
Marked | True |
MaxApertureValue | 3.5 |
Megapixels | 0.566 |
MeteringMode | Multi-segment |
Model | NIKON D700 |
ModifyDate (1) | 2010:12:28 19:33:17+01:00 |
ModifyDate | 2010:12:28 19:33:17 |
Orientation | Horizontal (normal) |
ParametricDarks | +18 |
ParametricHighlights | -100 |
ParametricHighlightSplit | 75 |
ParametricLights | +19 |
ParametricMidtoneSplit | 50 |
ParametricShadows | +18 |
ParametricShadowSplit | 25 |
PostCropVignetteAmount | 0 |
ProfileDescription | sRGB IEC61966-2.1 |
Province-State | Telemark |
Rating | 0 |
RawFileName | DSC_0546.NEF |
RedHue | 0 |
RedSaturation | 0 |
Rights | Gisle Hannemyr |
Saturation (2) | 0 |
Saturation | Normal |
SaturationAdjustmentAqua | 0 |
SaturationAdjustmentBlue | 0 |
SaturationAdjustmentGreen | 0 |
SaturationAdjustmentMagenta | 0 |
SaturationAdjustmentOrange | 0 |
SaturationAdjustmentPurple | 0 |
SaturationAdjustmentRed | 0 |
SaturationAdjustmentYellow | 0 |
ScaleFactor35efl | 1.0 |
SceneCaptureType | Standard |
SceneType | Directly photographed |
SensingMethod | One-chip color area |
SerialNumber | 2336235 |
Shadows | 5 |
ShadowTint | 0 |
SharpenDetail | 25 |
SharpenEdgeMasking | 0 |
SharpenRadius | +1.0 |
Sharpness (2) | 25 |
Sharpness | Normal |
ShutterSpeed | 1/320 |
ShutterSpeedValue | 1/320 |
SidecarForExtension | NEF |
Software | Adobe Photoshop CS4 Windows |
SplitToningBalance | 0 |
SplitToningHighlightHue | 0 |
SplitToningHighlightSaturation | 0 |
SplitToningShadowHue | 0 |
SplitToningShadowSaturation | 0 |
State | Telemark |
SubjectDistanceRange | Unknown |
Tint | -5 |
ToneCurve | 0, 0, 32, 22, 64, 56, 128, 128, 192, 196, 255, 255 |
ToneCurveName | Medium Contrast |
URL_List | |
Version | 5.5 |
Vibrance | +33 |
VignetteAmount | 0 |
WhiteBalance (2) | Custom |
WhiteBalance | Auto |