Felt | Verdi |
AlreadyApplied | True |
Aperture | 32.0 |
ApertureValue | 32.0 |
BitsPerSample | 8 |
BlueHue | 0 |
BlueSaturation | 0 |
Brightness | +50 |
CameraProfile | Adobe Standard |
CFAPattern | [Blue,Green][Green,Red] |
ChromaticAberrationB | 0 |
ChromaticAberrationR | 0 |
CircleOfConfusion | 0.020 mm |
Clarity | 0 |
ColorComponents | 1 |
ColorMode | Grayscale |
ColorNoiseReduction | 25 |
ColorNoiseReductionDetail | 50 |
ColorSpace | Uncalibrated |
ColorTemperature | 4950 |
Contrast (1) | +25 |
Contrast | Normal |
ConvertToGrayscale | True |
CreateDate (1) | 2011:02:11 14:06:22.80+01:00 |
CreateDate | 2011:02:11 14:06:22 |
CreatorTool | Adobe Photoshop CS5 Macintosh |
CustomRendered | Normal |
DateCreated (1) | 2011:02:11 |
DateCreated | 2011:02:11 14:06:22.08 |
DateTimeOriginal | 2011:02:11 14:06:22 |
Defringe | 0 |
DigitalZoomRatio | 1 |
ExifImageHeight | 942 |
ExifImageWidth | 1417 |
Exposure | 0.00 |
ExposureCompensation | 0 |
ExposureMode | Manual |
ExposureProgram | Manual |
ExposureTime | 1/60 |
FillLight | 0 |
Flash | No Flash |
FNumber | 32.0 |
FocalLength | 60.0 mm |
FocalLength35efl | 60.0 mm (35 mm equivalent: 90.0 mm) |
FocalLengthIn35mmFormat | 90 mm |
Format | image/jpeg |
FOV | 22.6 deg |
GainControl | None |
GrainAmount | 0 |
GrayMixerAqua | -21 |
GrayMixerBlue | -34 |
GrayMixerGreen | -24 |
GrayMixerMagenta | +3 |
GrayMixerOrange | +57 |
GrayMixerPurple | +10 |
GrayMixerRed | +100 |
GrayMixerYellow | +48 |
GreenHue | 0 |
GreenSaturation | 0 |
HasCrop | False |
HasSettings | True |
HighlightRecovery | 13 |
HyperfocalDistance | 5.62 m |
ICCProfileName | Gray Gamma 2.2 |
ImageHeight | 942 |
ImageNumber | 5964 |
ImageSize | 1417x942 |
ImageWidth | 1417 |
ISO | 200 |
Lens | 60.0 mm f/2.8 |
LensInfo | 60mm f/2.8 |
LightSource | Unknown |
LightValue | 14.9 |
LuminanceSmoothing | 0 |
Make | NIKON CORPORATION |
MaxApertureValue | 2.8 |
Megapixels | 1.3 |
MeteringMode | Multi-segment |
Model | NIKON D70s |
ModifyDate (1) | 2011:02:11 15:13:25+01:00 |
ModifyDate | 2011:02:11 15:13:25 |
Orientation | Horizontal (normal) |
ParametricDarks | -50 |
ParametricHighlights | +15 |
ParametricHighlightSplit | 75 |
ParametricLights | 0 |
ParametricMidtoneSplit | 50 |
ParametricShadows | -65 |
ParametricShadowSplit | 25 |
PostCropVignetteAmount | -16 |
PostCropVignetteFeather | 78 |
PostCropVignetteHighlightContrast | 0 |
PostCropVignetteMidpoint | 50 |
PostCropVignetteRoundness | 0 |
PostCropVignetteStyle | 1 |
ProcessVersion | 5.7 |
ProfileDescription | Gray Gamma 2.2 |
Rating | 0 |
RawFileName | DSC_0260.NEF |
RedHue | 0 |
RedSaturation | 0 |
Saturation | Normal |
ScaleFactor35efl | 1.5 |
SceneCaptureType | Standard |
SceneType | Directly photographed |
SensingMethod | One-chip color area |
SerialNumber | 1004f59d |
Shadows | 5 |
ShadowTint | 0 |
SharpenDetail | 25 |
SharpenEdgeMasking | 0 |
SharpenRadius | +1.0 |
Sharpness (1) | 30 |
Sharpness | Normal |
ShutterSpeed | 1/60 |
ShutterSpeedValue | 1/60 |
SidecarForExtension | NEF |
Software | Adobe Photoshop CS5 Macintosh |
SplitToningBalance | 0 |
SplitToningHighlightHue | 0 |
SplitToningHighlightSaturation | 0 |
SplitToningShadowHue | 0 |
SplitToningShadowSaturation | 0 |
SubjectDistanceRange | Unknown |
Tint | -6 |
ToneCurve | 0, 0, 32, 22, 64, 56, 128, 128, 192, 196, 255, 255 |
ToneCurveName | Medium Contrast |
URL_List | |
Version | 6.0 |
VignetteAmount | 0 |
WhiteBalance (1) | As Shot |
WhiteBalance | Auto |