Felt | Verdi |
AlreadyApplied | True |
Aperture | 5.3 |
ApertureValue | 5.3 |
ApproximateFocusDistance | 4294967295 |
AutoLateralCA | 0 |
BitsPerSample | 8 |
Blacks2012 | 0 |
BlueHue | 0 |
BlueSaturation | 0 |
CameraProfile | Adobe Standard |
CFAPattern | [Red,Green][Green,Blue] |
CircleOfConfusion | 0.020 mm |
Clarity2012 | +26 |
ColorComponents | 3 |
ColorNoiseReduction | 25 |
ColorNoiseReductionDetail | 50 |
ColorTemperature | 4900 |
Contrast | Normal |
Contrast2012 | 0 |
ConvertToGrayscale | False |
CreateDate (1) | 2012:06:09 15:41:34.30 |
CreateDate | 2012:06:09 15:41:34 |
CreatorTool | Adobe Photoshop Lightroom 4.1 (Windows) |
CustomRendered | Normal |
DateCreated (1) | 2012:06:09 |
DateCreated | 2012:06:09 15:41:34.30 |
DateTimeOriginal | 2012:06:09 15:41:34 |
DefringeGreenAmount | 0 |
DefringeGreenHueHi | 60 |
DefringeGreenHueLo | 40 |
DefringePurpleAmount | 0 |
DefringePurpleHueHi | 70 |
DefringePurpleHueLo | 30 |
DigitalZoomRatio | 1 |
DOF | inf (36.21 m - inf) |
Exposure2012 | 0.00 |
ExposureCompensation | 0 |
ExposureMode | Auto |
ExposureProgram | Aperture-priority AE |
ExposureTime | 1/800 |
Flash | Off, Did not fire |
FNumber | 5.3 |
FocalLength | 62.0 mm |
FocalLength35efl | 62.0 mm (35 mm equivalent: 93.0 mm) |
FocalLengthIn35mmFormat | 93 mm |
Format | image/jpeg |
FOV | 21.9 deg |
GainControl | None |
GrainAmount | 0 |
GreenHue | 0 |
GreenSaturation | 0 |
HasCrop | False |
HasSettings | True |
Highlights2012 | -30 |
HueAdjustmentAqua | 0 |
HueAdjustmentBlue | +13 |
HueAdjustmentGreen | +29 |
HueAdjustmentMagenta | 0 |
HueAdjustmentOrange | 0 |
HueAdjustmentPurple | 0 |
HueAdjustmentRed | 0 |
HueAdjustmentYellow | -44 |
HyperfocalDistance | 36.21 m |
ImageHeight | 3264 |
ImageNumber | 412 |
ImageSize | 4928x3264 |
ImageWidth | 4928 |
ISO | 100 |
Keywords | Spania juni 2012 |
Lens | 18.0-105.0 mm f/3.5-5.6 |
LensID (1) | 158 |
LensID | AF-S DX VR Zoom-Nikkor 18-105mm f/3.5-5.6G ED |
LensInfo | 18-105mm f/3.5-5.6 |
LensManualDistortionAmount | 0 |
LensModel | 18.0-105.0 mm f/3.5-5.6 |
LensProfileChromaticAberrationScale | 100 |
LensProfileDistortionScale | 100 |
LensProfileEnable | 0 |
LensProfileFilename | NIKON D90 (Nikon AF-S DX NIKKOR 18-105mm f3.5-5.6G ED VR) - RAW.lcp |
LensProfileName | Adobe (Nikon AF-S DX NIKKOR 18-105mm f/3.5-5.6G ED VR) |
LensProfileSetup | LensDefaults |
LensProfileVignettingScale | 100 |
LightSource | Unknown |
LightValue | 14.5 |
LuminanceAdjustmentAqua | 0 |
LuminanceAdjustmentBlue | 0 |
LuminanceAdjustmentGreen | -10 |
LuminanceAdjustmentMagenta | 0 |
LuminanceAdjustmentOrange | +17 |
LuminanceAdjustmentPurple | 0 |
LuminanceAdjustmentRed | 0 |
LuminanceAdjustmentYellow | -48 |
LuminanceSmoothing | 0 |
Make | NIKON CORPORATION |
MaxApertureValue | 5.3 |
Megapixels | 16.1 |
MeteringMode | Multi-segment |
Model | NIKON D7000 |
ModifyDate (1) | 2012:06:29 15:50:43+02:00 |
ModifyDate | 2012:06:29 15:50:43 |
ParametricDarks | +25 |
ParametricHighlights | +50 |
ParametricHighlightSplit | 75 |
ParametricLights | +30 |
ParametricMidtoneSplit | 50 |
ParametricShadows | 0 |
ParametricShadowSplit | 25 |
PerspectiveHorizontal | 0 |
PerspectiveRotate | 0.0 |
PerspectiveScale | 100 |
PerspectiveVertical | 0 |
PostCropVignetteAmount | 0 |
ProcessVersion | 6.7 |
ProfileDescription | sRGB IEC61966-2.1 |
RedHue | 0 |
RedSaturation | 0 |
Saturation (1) | +31 |
Saturation | Normal |
SaturationAdjustmentAqua | 0 |
SaturationAdjustmentBlue | +31 |
SaturationAdjustmentGreen | +38 |
SaturationAdjustmentMagenta | 0 |
SaturationAdjustmentOrange | +46 |
SaturationAdjustmentPurple | 0 |
SaturationAdjustmentRed | 0 |
SaturationAdjustmentYellow | +2 |
ScaleFactor35efl | 1.5 |
SceneCaptureType | Standard |
SceneType | Directly photographed |
SensingMethod | One-chip color area |
SensitivityType | Recommended Exposure Index |
SerialNumber | 6304591 |
Shadows2012 | +57 |
ShadowTint | 0 |
SharpenDetail | 25 |
SharpenEdgeMasking | 0 |
SharpenRadius | +1.0 |
Sharpness (1) | 25 |
Sharpness | Normal |
ShutterSpeed | 1/800 |
ShutterSpeedValue | 1/800 |
Software | Adobe Photoshop Lightroom 4.1 (Windows) |
SplitToningBalance | 0 |
SplitToningHighlightHue | 38 |
SplitToningHighlightSaturation | 27 |
SplitToningShadowHue | 219 |
SplitToningShadowSaturation | 19 |
Subject | Spania juni 2012 |
SubjectDistanceRange | Unknown |
Tint | +7 |
ToneCurveName2012 | Medium Contrast |
ToneCurvePV2012 | 0, 0, 32, 22, 64, 56, 128, 128, 192, 196, 255, 255 |
ToneCurvePV2012Blue | 0, 0, 255, 255 |
ToneCurvePV2012Green | 0, 0, 255, 255 |
ToneCurvePV2012Red | 0, 0, 255, 255 |
Version | 7.1 |
Vibrance | +7 |
VignetteAmount | 0 |
WhiteBalance (1) | As Shot |
WhiteBalance | Auto |
Whites2012 | +2 |