Felt | Verdi |
AlreadyApplied | True |
Aperture | 5.6 |
ApertureValue | 5.6 |
ApproximateFocusDistance | 5.66 |
Artist | LINN_BRYHN_JACOBSEN |
BitsPerSample | 8 |
BlueHue | 0 |
BlueSaturation | 0 |
Brightness | +50 |
By-line | LINN_BRYHN_JACOBSEN |
CameraProfile | Adobe Standard |
ChromaticAberrationB | 0 |
ChromaticAberrationR | 0 |
CircleOfConfusion | 0.020 mm |
Clarity | +22 |
ColorComponents | 3 |
ColorNoiseReduction | 25 |
ColorNoiseReductionDetail | 50 |
ColorTemperature | 6368 |
Contrast (1) | +25 |
Contrast | Normal |
ConvertToGrayscale | False |
Copyright | LINN_BRYHN_JACOBSEN |
CopyrightNotice | LINN_BRYHN_JACOBSEN |
CreateDate | 2012:11:08 09:27:39 |
Creator | LINN_BRYHN_JACOBSEN |
CreatorTool | Adobe Photoshop Lightroom 3.6 (Windows) |
CropAngle | 0 |
CropBottom | 0.868898 |
CropConstrainToWarp | 0 |
CropHeight | 620 |
CropLeft | 0 |
CropRight | 1 |
CropTop | 0.089261 |
CropUnit | pixels |
CropWidth | 1200 |
CustomRendered | Normal |
DateCreated (1) | 2012:11:08 |
DateCreated | 2012:11:08 09:27:39 |
DateTimeOriginal | 2012:11:08 09:27:39 |
Defringe | 0 |
DOF | 13.45 m (3.40 - 16.85 m) |
Exposure | 0.00 |
ExposureCompensation | 0 |
ExposureMode | Manual |
ExposureProgram | Manual |
ExposureTime | 1/80 |
FillLight | 18 |
Flash | Off, Did not fire |
FNumber | 5.6 |
FocalLength | 31.0 mm |
FocalLength35efl | 31.0 mm (35 mm equivalent: 46.0 mm) |
FocalLengthIn35mmFormat | 46 mm |
Format | image/jpeg |
FOV | 42.7 deg |
GrainAmount | 0 |
GreenHue | 0 |
GreenSaturation | 0 |
HasCrop | True |
HasSettings | True |
HierarchicalSubject | morgen, natur|landskap|sjøen, soloppgang, vinter, vær og himmel|snø |
HighlightRecovery | 48 |
HueAdjustmentAqua | 0 |
HueAdjustmentBlue | 0 |
HueAdjustmentGreen | 0 |
HueAdjustmentMagenta | 0 |
HueAdjustmentOrange | 0 |
HueAdjustmentPurple | 0 |
HueAdjustmentRed | 0 |
HueAdjustmentYellow | 0 |
HyperfocalDistance | 8.48 m |
ImageHeight | 620 |
ImageSize | 1200x620 |
ImageWidth | 1200 |
ISO | 100 |
Keywords | landscapes, landskap, morgen, morning, natur, nature, sjøen, snø, soloppgang, vinter, vær og himmel, weather, winter |
Lens | smc PENTAX-FA 31mm F1.8AL Limited |
LensID (1) | 4 39 |
LensID | smc PENTAX-FA 31mm F1.8 AL Limited |
LensInfo | 31mm f/1.8 |
LensManualDistortionAmount | 0 |
LensModel | smc PENTAX-FA 31mm F1.8AL Limited |
LensProfileEnable | 0 |
LensProfileSetup | LensDefaults |
LightValue | 11.3 |
LuminanceAdjustmentAqua | 0 |
LuminanceAdjustmentBlue | 0 |
LuminanceAdjustmentGreen | 0 |
LuminanceAdjustmentMagenta | 0 |
LuminanceAdjustmentOrange | 0 |
LuminanceAdjustmentPurple | 0 |
LuminanceAdjustmentRed | 0 |
LuminanceAdjustmentYellow | 0 |
LuminanceNoiseReductionContrast | 0 |
LuminanceNoiseReductionDetail | 50 |
LuminanceSmoothing | 16 |
Make | PENTAX |
Megapixels | 0.744 |
MeteringMode | Center-weighted average |
Model | PENTAX K-5 |
ModifyDate (1) | 2012:11:25 20:32:35+01:00 |
ModifyDate | 2012:11:25 20:32:35 |
PaintCorrectionActive | true |
PaintCorrectionAmount | 1.000000 |
PaintCorrectionBrightness (1) | 0.512195 |
PaintCorrectionBrightness | 0.000000 |
PaintCorrectionClarity | 0.000000 |
PaintCorrectionContrast | 0.000000 |
PaintCorrectionExposure (1) | 0.000000 |
PaintCorrectionExposure | -0.080460 |
PaintCorrectionHue | 240.000000 |
PaintCorrectionMaskCenterWeight | 0.006529 |
PaintCorrectionMaskFlow (1) | 0.273606 |
PaintCorrectionMaskFlow (10) | 0.721241 |
PaintCorrectionMaskFlow (11) | 0.885959 |
PaintCorrectionMaskFlow (12) | 0.332640 |
PaintCorrectionMaskFlow (13) | 0.681657 |
PaintCorrectionMaskFlow (2) | 0.571149 |
PaintCorrectionMaskFlow (3) | 0.245587 |
PaintCorrectionMaskFlow (4) | 0.739565 |
PaintCorrectionMaskFlow (5) | 0.831335 |
PaintCorrectionMaskFlow (6) | 0.291333 |
PaintCorrectionMaskFlow (7) | 0.820513 |
PaintCorrectionMaskFlow (8) | 0.194647 |
PaintCorrectionMaskFlow (9) | 0.404296 |
PaintCorrectionMaskFlow | 0.917806 |
PaintCorrectionMaskRadius (1) | 0.197348 |
PaintCorrectionMaskRadius (7) | 0.087606 |
PaintCorrectionMaskRadius | 0.176985 |
PaintCorrectionMaskValue | 0.345000 |
PaintCorrectionMaskWhat | Mask/Paint |
PaintCorrectionSaturation | 0.000000 |
PaintCorrectionSharpness | 0.000000 |
PaintCorrectionWhat | Correction |
ParametricDarks | 0 |
ParametricHighlights | 0 |
ParametricHighlightSplit | 75 |
ParametricLights | +24 |
ParametricMidtoneSplit | 50 |
ParametricShadows | -4 |
ParametricShadowSplit | 25 |
PerspectiveHorizontal | 0 |
PerspectiveRotate | 0.0 |
PerspectiveScale | 100 |
PerspectiveVertical | 0 |
PostCropVignetteAmount | -8 |
PostCropVignetteFeather | 50 |
PostCropVignetteHighlightContrast | 0 |
PostCropVignetteMidpoint | 50 |
PostCropVignetteRoundness | 0 |
PostCropVignetteStyle | 1 |
ProcessVersion | 5.7 |
ProfileDescription | sRGB IEC61966-2.1 |
RedHue | 0 |
RedSaturation | 0 |
Rights | LINN_BRYHN_JACOBSEN |
Saturation (1) | -10 |
Saturation | Normal |
SaturationAdjustmentAqua | 0 |
SaturationAdjustmentBlue | 0 |
SaturationAdjustmentGreen | 0 |
SaturationAdjustmentMagenta | 0 |
SaturationAdjustmentOrange | 0 |
SaturationAdjustmentPurple | 0 |
SaturationAdjustmentRed | 0 |
SaturationAdjustmentYellow | 0 |
ScaleFactor35efl | 1.5 |
SceneCaptureType | Standard |
SensingMethod | One-chip color area |
Shadows | 18 |
ShadowTint | 0 |
SharpenDetail | 25 |
SharpenEdgeMasking | 0 |
SharpenRadius | +1.7 |
Sharpness (1) | 86 |
Sharpness | Normal |
ShutterSpeed | 1/80 |
ShutterSpeedValue | 1/80 |
Software | Adobe Photoshop Lightroom 3.6 (Windows) |
SplitToningBalance | 0 |
SplitToningHighlightHue | 0 |
SplitToningHighlightSaturation | 0 |
SplitToningShadowHue | 0 |
SplitToningShadowSaturation | 0 |
Subject | landscapes, landskap, morgen, morning, natur, nature, sjøen, snø, soloppgang, vinter, vær og himmel, weather, winter |
SubjectDistanceRange | Distant |
Tint | +2 |
ToneCurve | 0, 0, 32, 22, 64, 56, 128, 128, 192, 196, 255, 255 |
ToneCurveName | Medium Contrast |
Version | 6.6 |
Vibrance | +31 |
VignetteAmount | 0 |
WhiteBalance (1) | Custom |
WhiteBalance | Auto |