Felt | Verdi |
AlreadyApplied | True |
Aperture | 8.0 |
ApertureValue | 8.0 |
BitsPerSample | 8 |
BlueHue | 0 |
BlueSaturation | 0 |
Brightness | -25 |
CameraProfile | Adobe Standard |
ChromaticAberrationB | 0 |
ChromaticAberrationR | 0 |
CircleOfConfusion | 0.019 mm |
Clarity | +67 |
ColorComponents | 3 |
ColorNoiseReduction | 100 |
ColorSpace | Uncalibrated |
ColorTemperature | 5900 |
Contrast | +29 |
ConvertToGrayscale | False |
CreateDate (1) | 2012:07:07 09:53:51.42+02:00 |
CreateDate | 2012:07:07 09:53:51 |
CreatorTool | Adobe Photoshop Lightroom |
CropAngle | 0 |
CropBottom | 0.907859 |
CropHeight | 2876 |
CropLeft | 0.074074 |
CropRight | 1 |
CropTop | 0 |
CropUnit | pixels |
CropWidth | 4400 |
CustomRendered | Normal |
DateTime | 2012:08:20 18:46:11 |
DateTimeDigitized | 2012:07:07 09:53:51.42+02:00 |
DateTimeOriginal (1) | 2012:07:07 09:53:51.42+02:00 |
DateTimeOriginal | 2012:07:07 09:53:51 |
Defringe | 0 |
DOF | 2933.62 m (63.31 - 2996.93 m) |
ExifImageHeight | 2876 |
ExifImageWidth | 4400 |
Exposure | +1.33 |
ExposureCompensation | 0 |
ExposureMode | Manual |
ExposureProgram | Manual |
ExposureTime | 1/80 |
FillLight | 0 |
Firmware | 1.0.7 |
Flash (1) |
Flash (2) | Off, Did not fire |
Flash | No Flash |
FlashCompensation | 0 |
FNumber | 8.0 |
FocalLength | 140.0 mm |
FocalLength35efl | 140.0 mm (35 mm equivalent: 221.8 mm) |
FOV | 9.3 deg |
GreenHue | 0 |
GreenSaturation | 0 |
HasCrop | True |
HasSettings | True |
HighlightRecovery | 80 |
HueAdjustmentAqua | 0 |
HueAdjustmentBlue | 0 |
HueAdjustmentGreen | 0 |
HueAdjustmentMagenta | 0 |
HueAdjustmentOrange | 0 |
HueAdjustmentPurple | 0 |
HueAdjustmentRed | 0 |
HueAdjustmentYellow | 0 |
HyperfocalDistance | 129.21 m |
ImageHeight (1) | 2876 |
ImageHeight | 2652 |
ImageNumber | 0 |
ImageSize | 3920x2652 |
ImageWidth (1) | 4400 |
ImageWidth | 3920 |
ISO | 200 |
Lens | EF-S18-200mm f/3.5-5.6 IS |
LensInfo | 18-200mm f/? |
LightValue | 11.3 |
LuminanceAdjustmentAqua | 0 |
LuminanceAdjustmentBlue | 0 |
LuminanceAdjustmentGreen | 0 |
LuminanceAdjustmentMagenta | 0 |
LuminanceAdjustmentOrange | 0 |
LuminanceAdjustmentPurple | 0 |
LuminanceAdjustmentRed | 0 |
LuminanceAdjustmentYellow | 0 |
LuminanceSmoothing | 100 |
Make | Canon |
MaxApertureValue | 5.7 |
Megapixels | 10.4 |
MeteringMode | Multi-segment |
Model | Canon EOS 50D |
ModifyDate (1) | 2012:08:20 18:46:11+02:00 |
ModifyDate | 2012:09:23 16:37:41 |
ParametricDarks | -10 |
ParametricHighlights | -14 |
ParametricHighlightSplit | 90 |
ParametricLights | +37 |
ParametricMidtoneSplit | 50 |
ParametricShadows | -47 |
ParametricShadowSplit | 10 |
PostCropVignetteAmount | -31 |
PostCropVignetteFeather | 71 |
PostCropVignetteMidpoint | 50 |
PostCropVignetteRoundness | 0 |
ProfileDescription | sRGB IEC61966-2.1 |
Rating | 2 |
RedHue | 0 |
RedSaturation | 0 |
Saturation | -14 |
SaturationAdjustmentAqua | 0 |
SaturationAdjustmentBlue | 0 |
SaturationAdjustmentGreen | -15 |
SaturationAdjustmentMagenta | 0 |
SaturationAdjustmentOrange | 0 |
SaturationAdjustmentPurple | 0 |
SaturationAdjustmentRed | 0 |
SaturationAdjustmentYellow | -15 |
ScaleFactor35efl | 1.6 |
SceneCaptureType | Standard |
SerialNumber | 1630725698 |
Shadows | 6 |
ShadowTint | 0 |
SharpenDetail | 54 |
SharpenEdgeMasking | 49 |
SharpenRadius | +0.7 |
Sharpness | 116 |
ShutterSpeed | 1/80 |
ShutterSpeedValue | 1/80 |
SplitToningBalance | 0 |
SplitToningHighlightHue | 0 |
SplitToningHighlightSaturation | 0 |
SplitToningShadowHue | 0 |
SplitToningShadowSaturation | 0 |
Subject | China, Guangxi, Jinkeng, Longsheng |
SubjectDistance (1) | 124,0 m m |
SubjectDistance | 124 m |
Tint | +21 |
ToneCurve | 0, 0, 32, 22, 64, 56, 128, 128, 192, 196, 255, 255 |
ToneCurveName | Medium Contrast |
Version | 5.7 |
Vibrance | +43 |
VignetteAmount | 0 |
WhiteBalance (2) | As Shot |
WhiteBalance | Manual |