Felt | Verdi |
AlreadyApplied | True |
Aperture | 2.4 |
ApertureValue | 2.4 |
AutoLateralCA | 0 |
BitsPerSample | 8 |
Blacks2012 | -12 |
BlueHue | 0 |
BlueSaturation | 0 |
BrightnessValue | 5.368660969 |
CameraProfile | Embedded |
CircleOfConfusion | 0.004 mm |
City | Oslo |
Clarity2012 | +30 |
ColorComponents | 3 |
ColorNoiseReduction | 0 |
Contrast2012 | +8 |
ConvertToGrayscale | False |
Country | Norway |
Country-PrimaryLocationName | Norway |
CreateDate (1) | 2014:03:20 17:13:35.467 |
CreateDate | 2014:03:20 17:13:35 |
CreatorTool | Adobe Photoshop Lightroom 5.0 (Macintosh) |
CropAngle | 0 |
CropBottom | 0.928092 |
CropConstrainToWarp | 0 |
CropLeft | 0 |
CropRight | 0.928092 |
CropTop | 0 |
DateCreated (1) | 2014:03:20 |
DateCreated | 2014:03:20 17:13:35.467 |
DateTimeOriginal | 2014:03:20 17:13:35 |
DefringeGreenAmount | 0 |
DefringeGreenHueHi | 60 |
DefringeGreenHueLo | 40 |
DefringePurpleAmount | 0 |
DefringePurpleHueHi | 70 |
DefringePurpleHueLo | 30 |
Exposure2012 | -1.05 |
ExposureMode | Auto |
ExposureProgram | Program AE |
ExposureTime | 1/120 |
Flash | Off, Did not fire |
FNumber | 2.4 |
FocalLength | 4.1 mm |
FocalLength35efl | 4.1 mm (35 mm equivalent: 33.0 mm) |
FocalLengthIn35mmFormat | 33 mm |
Format | image/jpeg |
FOV | 57.2 deg |
GPSAltitude (1) | 22.25744681 m |
GPSAltitude | 22.2 m Above Sea Level |
GPSAltitudeRef | Above Sea Level |
GPSDateStamp | 2014:03:20 |
GPSDateTime | 2014:03:20 16:13:34.98Z |
GPSImgDirection | 355.855615 |
GPSImgDirectionRef | True North |
GPSLatitude (1) | 59 deg 54' 19.22" |
GPSLatitude | 59 deg 54' 19.22" N |
GPSLatitudeRef | North |
GPSLongitude (1) | 10 deg 46' 7.23" |
GPSLongitude | 10 deg 46' 7.23" E |
GPSLongitudeRef | East |
GPSPosition | 59 deg 54' 19.22" N, 10 deg 46' 7.23" E |
GPSTimeStamp | 16:13:34.98 |
GrainAmount | 0 |
GreenHue | 0 |
GreenSaturation | 0 |
HasCrop | True |
HasSettings | True |
Highlights2012 | -56 |
HueAdjustmentAqua | 0 |
HueAdjustmentBlue | 0 |
HueAdjustmentGreen | 0 |
HueAdjustmentMagenta | 0 |
HueAdjustmentOrange | 0 |
HueAdjustmentPurple | 0 |
HueAdjustmentRed | 0 |
HueAdjustmentYellow | 0 |
HyperfocalDistance | 1.89 m |
ImageHeight | 2272 |
ImageSize | 3029x2272 |
ImageWidth | 3029 |
IncrementalTemperature | 0 |
IncrementalTint | 0 |
ISO | 80 |
Lens | iPhone 5 back camera 4.12mm f/2.4 |
LensInfo | 4.12mm f/2.4 |
LensMake | Apple |
LensManualDistortionAmount | 0 |
LensModel | iPhone 5 back camera 4.12mm f/2.4 |
LensProfileEnable | 0 |
LensProfileSetup | LensDefaults |
LightValue | 9.8 |
Location | Gamle Oslo |
LuminanceAdjustmentAqua | 0 |
LuminanceAdjustmentBlue | 0 |
LuminanceAdjustmentGreen | 0 |
LuminanceAdjustmentMagenta | 0 |
LuminanceAdjustmentOrange | 0 |
LuminanceAdjustmentPurple | 0 |
LuminanceAdjustmentRed | 0 |
LuminanceAdjustmentYellow | 0 |
LuminanceSmoothing | 0 |
Make | Apple |
Megapixels | 6.9 |
MeteringMode | Multi-segment |
Model | iPhone 5 |
ModifyDate (1) | 2014:03:22 21:28:57+01:00 |
ModifyDate | 2014:03:22 21:28:57 |
ParametricDarks | 0 |
ParametricHighlights | 0 |
ParametricHighlightSplit | 75 |
ParametricLights | 0 |
ParametricMidtoneSplit | 50 |
ParametricShadows | 0 |
ParametricShadowSplit | 25 |
PerspectiveAspect | 0 |
PerspectiveHorizontal | 0 |
PerspectiveRotate | 0.0 |
PerspectiveScale | 100 |
PerspectiveUpright | 0 |
PerspectiveVertical | 0 |
PostCropVignetteAmount | -35 |
PostCropVignetteFeather | 50 |
PostCropVignetteHighlightContrast | 0 |
PostCropVignetteMidpoint | 50 |
PostCropVignetteRoundness | 0 |
PostCropVignetteStyle | 1 |
ProcessVersion | 6.7 |
ProfileDescription | sRGB IEC61966-2.1 |
Province-State | Oslo |
RedHue | 0 |
RedSaturation | 0 |
Saturation | +9 |
SaturationAdjustmentAqua | 0 |
SaturationAdjustmentBlue | 0 |
SaturationAdjustmentGreen | 0 |
SaturationAdjustmentMagenta | 0 |
SaturationAdjustmentOrange | 0 |
SaturationAdjustmentPurple | 0 |
SaturationAdjustmentRed | 0 |
SaturationAdjustmentYellow | 0 |
ScaleFactor35efl | 8.0 |
SceneCaptureType | Standard |
SceneType | Directly photographed |
SensingMethod | One-chip color area |
Shadows2012 | +69 |
ShadowTint | 0 |
SharpenDetail | 25 |
SharpenEdgeMasking | 0 |
SharpenRadius | +1.0 |
Sharpness | 0 |
ShutterSpeed | 1/120 |
ShutterSpeedValue | 1/120 |
Software | Adobe Photoshop Lightroom 5.0 (Macintosh) |
SplitToningBalance | 0 |
SplitToningHighlightHue | 0 |
SplitToningHighlightSaturation | 0 |
SplitToningShadowHue | 0 |
SplitToningShadowSaturation | 0 |
State | Oslo |
Sub-location | Gamle Oslo |
SubjectArea | 1631 1223 1795 1077 |
ToneCurveName2012 | Linear |
ToneCurvePV2012 | 0, 0, 255, 255 |
ToneCurvePV2012Blue | 0, 0, 255, 255 |
ToneCurvePV2012Green | 0, 0, 255, 255 |
ToneCurvePV2012Red | 0, 0, 255, 255 |
Version | 8.1 |
Vibrance | +25 |
VignetteAmount | 0 |
WhiteBalance (1) | As Shot |
WhiteBalance | Auto |
Whites2012 | +54 |